BEGIN:VCALENDAR
VERSION:2.0
PRODID:-//一般社団法人企業共創支援機構 - ECPv5.14.0.3//NONSGML v1.0//EN
CALSCALE:GREGORIAN
METHOD:PUBLISH
X-WR-CALNAME:一般社団法人企業共創支援機構
X-ORIGINAL-URL:https://kyososhien.or.jp
X-WR-CALDESC:一般社団法人企業共創支援機構 のイベント
REFRESH-INTERVAL;VALUE=DURATION:PT1H
X-Robots-Tag:noindex
X-PUBLISHED-TTL:PT1H
BEGIN:VTIMEZONE
TZID:Asia/Tokyo
BEGIN:STANDARD
TZOFFSETFROM:+0900
TZOFFSETTO:+0900
TZNAME:JST
DTSTART:20240101T000000
END:STANDARD
END:VTIMEZONE
BEGIN:VEVENT
DTSTART;TZID=Asia/Tokyo:20240411T160000
DTEND;TZID=Asia/Tokyo:20240411T170000
DTSTAMP:20260424T133054
CREATED:20240322T060928Z
LAST-MODIFIED:20240403T074629Z
UID:7614-1712851200-1712854800@kyososhien.or.jp
SUMMARY:無料集客を実現する中小企業のためのInstagram活用術
DESCRIPTION:4月11日、18日と開催が予定されていますが、両日とも内容は同じです。ご都合の良い日程をご選択ください。\n\n\nInstagramの活用で無料集客の実現\n\n\n\nSNSは、今日のビジネス環境において、マーケティング戦略の中心です。製品やサービスの認知度を高め、ユーザーとの関係性の構築や、ブランディングを強化する上で、SNSの役割は計り知れません。 \n\n\n\n特にInstagramはビジュアルの訴求が強く、高品質な写真や動画を通じて、新規顧客の接点作りやブランドの世界観を伝えることができます。また、直接的なコミュニケーションで、ユーザーとの関係を築くことができます。 \n\n\n\nInstagramを効果的に利用している企業は、そのビジュアルコンテンツの魅力と幅広いユーザーベースを活かし、多様なマーケティング活動を展開しています。これには、インフルエンサーとの協業やブランド専用アカウントの運用などが含まれます。 \n\n\n\n企業がInstagramを始める3つのメリット\n\n\n\n1. 新商品をいち早く紹介できる2. 企業の知名度をアップできる3. 直接的な意見がもらえる \n\n\n\nInstagramを最大限に活用し、ビジネスの新たな可能性を探るためには、単にコンテンツを投稿するだけでは不十分です。Instagram特有のビジュアルコンテンツの作成技術や、効果的なファン獲得方法をマスターすることが重要です。 \n\n\n\nそこで今回、中小企業向けの集客支援を100社以上行い、CPAコスト92%削減、売上300%UPなど、集客と収益の最大化に貢献してきたドットアンドノード株式会社　稲垣達也氏が、「無料集客を実現する 中小企業のためのInstagram活用術」セミナーを開催します。 \n\n\n\nInstagram運用実績\n\n\n\n結婚式場: Instagram DMからの問い合わせにより、毎月安定した成約を獲得。リフォーム会社: Instagramを通じた関係性構築が奏功し、成約率が大幅に向上。歯科医院: 新規患者獲得の大部分がWeb経由となり、業績アップに寄与。食品会社: Instagramで紹介された商品がオンラインショップで即売り切れとなる現象を実現。\n\n\n\nこのセミナーは、中小企業のビジネス成長にInstagramを如何に効果的に活用できるか、具体的な戦略と実例を通じて深く掘り下げます。Instagramを使ったビジネスの革新を目指す経営者の皆様にとって、必聴の内容です。 \n\n\n\n実際に改善された成功事例：稲垣氏がもたらした劇的な成果\n\n\n\nCPAコスト92%削減！ダイエット商材が大成功講師養成講座の成約率130%UPで劇的な改善結婚式場、コロナV字復活で前年比300%UP！売上利益も最高更新中ダイビングショップ、売上150%UPで勢いに乗る！パーソナルトレーニングジム、月間反響が200%UPに！創業100年中間製造業、コロナ前比300%売上改善農家、コロナで1000万円の廃棄を防ぎ、1070万円のクラウドファンディング達成！\n\n\n\n今回のセミナーで得られる知識やスキルについて紹介！\n\n\n\nInstagramで成果を出した企業の事例紹介無料集客を実現する様々なSNSの特性Instagramで潜在的な顧客を見つけ、アプローチする方法とは？ブランド価値を高めるための効果的なコンテンツの作り方\n\n\n\n今回のセミナーでは、中小企業でも実現可能な集客と売上最大化のための最新戦略や実践的な施策をご紹介します。成功事例や失敗事例から学び、あなたの会社に合った戦略と戦術を診断する個別相談の時間も設けておりますので、ぜひご参加ください。 \n\n\n\n講師紹介\n\n\n\n\n\n\n稲垣達也 氏合同会社TEAM GLOBE 代表ドットアンドノード株式会社 代表取締役 \n\n\n\nGoogle、Facebookなどの　ビックデータやAIを活用し、広告費用の最適化を得意とする。幅広い業種で売上・集客・コスト減に貢献。 \n\n\n\n[実績]創業100年の中間製造業　コロナ前比300%以上に売上を改善結婚式場の集客　大手ポータルサイトと比較して、自社サイトで7倍集客実現農家をクラウドファンディング支援で1070万円達成　目標の21倍実現レジャー提供会社　店舗売上コロナ前比150%初めてネット通販に進出　4ヶ月で3000件以上の見込み客の獲得に成功不動産業者の顧客問い合わせ数を30倍 コンサル先のROASを6ヶ月で、225%⇨2490%に改善など、数々の業績に貢献する。\n\n\n\nその他、鉄道会社、地方TVキー局、大手企業、自治体などの取引あり。 \n\n\n\n[経歴]1984年　岐阜県瑞浪市の田舎生まれ2002年　携帯待ち受け画像サイトの運営　お小遣い稼ぎ10万円/月程度（高校2年生）2007年　横浜国立大学経済学部卒業2007年　阪和興業株式会社入社　名古屋支社配属　鉄鋼製品の輸出入営業など2015年　退職 2016年　ハウスドゥ静岡本通店　店長2017年　2～4月買取ランキング　ハウスドゥ内3か月連続1位　FC内全国大会で講演、個人粗利ランキング　ハウスドゥ全国1位2018年　退職2019年　合同会社TEAM GLOBE 創業　WEB事業開始2021年　空きテナント活用商店街活性化サイネージ広告『Pocket』運用開始 \n\n\n\n[お取引企業様]●インフラ系鉄道、テレビ、エネルギー、不動産会社、自動車部品、静岡市、スポーツ施設　など●専門職系税務署　士業（司法書士、税理士、弁護士、社労士・・）、M&Aコンサル、歯科医、県介護福祉士会、マンションデベロッパー、システム開発、整体院、美容室　など●飲食、生活系など飲食店、農家、ダイエット食品、レジャー会社、食品製造、武具、ネイル、片付け、太陽光発電、リフォーム、エステ、ヨガ、物販、トレーナー、英会話講師育成　など \n\n\n\n4月11日、18日と開催が予定されていますが、両日とも内容は同じです。ご都合の良い日程をご選択ください。\n\n\n【お申し込みに際しての注意事項】\n\n\n\n●欠席の場合は事務局までご一報ください。●遅刻早退は不可です、時間に余裕を持ってご参加ください。●必ずカメラはオンでご参加頂ますようお願い致します。また、移動や仕事をしながらなどのながら参加や、カメラがオフの場合は参加をお断りさせていただきます。●時間通りにスタートするため、5分前にはご入室ください。●同業他社様の参加をお断りさせていただいております。 \n\n\n\nこれまでの開催実績\n\n\n\n上場企業経営者や著名人のセミナーの開催実績多数！\n\n\n\n4月11日、18日と開催が予定されていますが、両日とも内容は同じです。ご都合の良い日程をご選択ください。\n\n\n\n\n\n詳細\n\n\n\n\n\n参加費\n\n\n\n\n\n\n\n\n\n主催者\n\n\n\n\n\n\n\n会場\n\n\n\n\n\n\n\n\n4月11日、18日と開催が予定されていますが、両日とも内容は同じです。ご都合の良い日程をご選択ください。
URL:https://kyososhien.or.jp/event/20240411/
LOCATION:オンライン（ZOOM）での開催
CATEGORIES:オンラインセミナー
ATTACH;FMTTYPE=image/jpeg:https://kyososhien.or.jp/wp-content/uploads/2024/03/seminer_inagaki-1.jpg
ORGANIZER;CN="%E7%B5%8C%E5%96%B6%E8%80%85%E3%82%B3%E3%83%9F%E3%83%A5%E3%83%8B%E3%83%86%E3%82%A3%E3%80%8E%E3%81%A4%E3%82%80%E3%81%8E%E4%BC%9A%E3%80%8F":MAILTO:info@kyososhien.or.jp
END:VEVENT
END:VCALENDAR