BEGIN:VCALENDAR
VERSION:2.0
PRODID:-//一般社団法人企業共創支援機構 - ECPv5.14.0.3//NONSGML v1.0//EN
CALSCALE:GREGORIAN
METHOD:PUBLISH
X-WR-CALNAME:一般社団法人企業共創支援機構
X-ORIGINAL-URL:https://kyososhien.or.jp
X-WR-CALDESC:一般社団法人企業共創支援機構 のイベント
REFRESH-INTERVAL;VALUE=DURATION:PT1H
X-Robots-Tag:noindex
X-PUBLISHED-TTL:PT1H
BEGIN:VTIMEZONE
TZID:Asia/Tokyo
BEGIN:STANDARD
TZOFFSETFROM:+0900
TZOFFSETTO:+0900
TZNAME:JST
DTSTART:20230101T000000
END:STANDARD
END:VTIMEZONE
BEGIN:VEVENT
DTSTART;TZID=Asia/Tokyo:20231205T110000
DTEND;TZID=Asia/Tokyo:20231205T123000
DTSTAMP:20260424T195335
CREATED:20231121T072206Z
LAST-MODIFIED:20231121T072605Z
UID:7297-1701774000-1701779400@kyososhien.or.jp
SUMMARY:「高確率で社長アポ」をゲットする経済産業省幹部絶賛のアイデア。国が激推しする資金調達法を使って法人開拓を楽々実現する方法
DESCRIPTION:コネ・人脈・紹介なしでも、社長アポを簡単に獲得する今までにない方法\n\n\n\n保険営業こそ、営業の花形。セールス技術の極致です。 \n\n\n\n一般的な営業よりも難易度はかなり高い。それだけにこの業界で成功すれば、大きな見返りを得ることができます。 \n\n\n\nしかし、一方でこんな課題を感じている人が多いのも事実です。 \n\n\n\n✔とにかく社長アポが取りにくい✔アポを取る口実がなかなか見つからない✔他社との競合が激しく、自分をどう差別化すればいいか分からない✔紹介はなかなかもらえない。中でも社長の紹介はまずもらえない✔社長への紹介依頼が「良い人が見つかれば」と終わってしまう✔どうやって法人保険を社長に提案すればいいか悩む \n\n\n\n保険営業をしていれば、誰でも１つや２つは当てはまるのではないでしょうか？保険の中でも、法人向けはとりわけ難しい。特に「社長のアポイント」を獲得するのはハードルが高いと感じている人が多いでしょう。 \n\n\n\n法人向け保険は大きな報酬を得られます。反面、社長のアポを取るのも売るのも難しいという難点があります。 \n\n\n\nこれからお話しする方法を使えば、その難点をスルリと克服できるでしょう。 \n\n\n\n社長が保険マンを敬遠する理由と対策\n\n\n\n多くの社長は保険の営業マンを敬遠します。 \n\n\n\nその理由はなんでしょうか？シンプルにいうと保険マンを「お金を預かる人」と認識しているからです。実際、お金を持ってきてくれるお客様には、社長は喜んで時間を作るものです。 \n\n\n\nポイントは正にココ。 \n\n\n\n保険マンが社長からお金をお預かりする人から、「お金をもたらす人」になったとしたら、社長の態度は今までと180°変わります。 \n\n\n\n「お金を預かる人」から「お金をももたらす人」に変身する方法\n\n\n\n方法は簡単です。 \n\n\n\n一言で言えば、社長に「資金調達」の提案ができれば一発で解決します。 \n\n\n\n実際、資金調達のノウハウを持つ保険営業マンは、新規顧客の開拓が容易です。 \n\n\n\n例えば、「社長！　返済不要の3000万円、欲しくないですか？」と一言伝えれば、興味を持ってくれる社長はかなり多いでしょう。 \n\n\n\n逆に「間に合ってます」「そんなお金は不要です」という社長を探す方が難しいくらいです。 \n\n\n\nしかも、この方法が「国公認」それどころか「国が積極的に推進しようとしている政策」だったとしたらどうでしょうか？ \n\n\n\n信頼性も相まって社長の興味を強力に惹きつけることができるでしょう。 \n\n\n\nどの経営者にとっても明らかにメリットがあって、尚且つ「国公認」＝合法的で安全な方法ですから、経営者から経営者に「紹介」が必然的に発生することになります。 \n\n\n\nぜひ、セミナーに参加して、まだ多くの営業マンが気づいていない「この方法」を学び、社長アポを量産し今までに経験のない好業績を手に入れてください。無料です。 \n\n\n\n\n\n\n単なる営業マンから「企業を守り、成長を支える力」を持った社長の右腕へ\n\n\n\n本来、法人にとって保険は「企業を守り、成長を支える力」のはずです。 \n\n\n\nところが、多くの社長は保険マンをそんな存在として見てくれてはいません。 \n\n\n\n実際、「保険」というキーワードを出した瞬間に、話を打ち切られてしまった経験のある保険マンは少なくないでしょう。 \n\n\n\nしかし、一方で業界には「優積者」が多数いるのも事実。 \n\n\n\n彼らは一体どんな「魔法」を使って、法人契約を手に入れているのでしょうか？ \n\n\n\nその魔法のタネを知るには保険業界、そして経営者心理、さらには資金調達の３つの分野ついての深い知識が必要です。 \n\n\n\nそこで今回は、この３つの分野を知り尽くしたプロフェッショナルを講師にお招き保険営業マン限定のセミナーを企画しました。 \n\n\n\n題して、「資金調達を武器にした、法人開拓」セミナー。 \n\n\n\n講師は、大手クレジットカード会社から外資系生命保険会社の外務員に転身、財務改善と資本政策支援を武器に3年連続MDRTを獲得し、株式投資型クラウドファンディング（ECF®＝旧グリーンシート）での資金調達支援は20億円超、調達額は業歴と共に日本一の実績を持つ、一般財団 経営者支援学会　代表理事　の佐藤公信氏です。 \n\n\n\nセミナーの3つの特徴\n\n\n\nこのセミナーは、生命保険はリスクヘッジであるという商品の本質を追求し、真に経営者の役に立ちたいと真剣に考えている生命保険営業パーソンのために開催します。その特徴は以下の3つに要約されます。 \n\n\n\nPOINT-1【社長が泣いて喜ぶ返済不要の資金調達法が学べる】新しい資金調達制度である返済不要の資金調達「株式投資型クラウドファンディング」の全容を、この業界で日本一の支援実績を持つ佐藤公信氏が解説します。 \n\n\n\nPOINT-2【専門知識なしでも翌日から新規開拓できる方法がわかる】「株式投資型クラウドファンディング」の知識を使って、新規に社長と知り合うを方法とノウハウを提供しますので、専門知識がなくてもセミナーの中身がうろ覚えでも、セミナーの翌日からすぐに新規顧客開拓に使えます。 \n\n\n\nPOINT-3【社長が得する財務ネタを学んで信頼獲得できる】法人保険の販売には財務知識は不可欠です。財務なき保険は経営を毀損するとまで言われています。詳しい財務の知識がなくてもすぐに使える、社長が得する財務ネタを提供します。信用獲得に使えるネタとして提供します。 \n\n\n\n正直なところ、この３つのポイントだけでも有料級の価値は十分にあると思います。 \n\n\n\nこのセミナーに参加することであなたが手に入れられるもの \n\n\n\n✔「社長のアポイントを取れる」営業マンなれる✔クロージングなしで法人契約を獲得する方法がわかる✔返済不要の3000万円の資金調達を使って社長アポを取る方法が手に入る✔社長のための「女房子どもに迷惑をかけない資金調達術」がわかる✔MDRT営業マンが使っている断られない社長アポ獲得の裏技を学べる✔社長の信頼を勝ち取る超簡単なアプローチ術が手に入る \n\n\n\nこのセミナーでお話しする資金調達法は、経済産業省が推奨しているにもかかわらず、まだ活用できている人が少ない方法です。 \n\n\n\nしかし、もしかすると、来年にはライバルがこの方法に気がつき競合が急増するかもしれません。 \n\n\n\nまだ、多くの人が気づいていない今こそ、チャンスです。 \n\n\n\nさらに、佐藤氏はこの手法の第一人者であり、彼から学べる機会は非常に希少です。 \n\n\n\nこのチャンスを逃さないでください。早い者勝ちです。 \n\n\n\n\n\n\n講師紹介\n\n\n\n\n\n\n佐藤 公信氏一般財団 経営者支援学会　代表理事株式会社 パブリックトラスト　代表取締役 \n\n\n\n大手クレジットカード会社出身。ゼロから日本一になるプロセスを企画担当として経営者の間近で体験し構想を企画にするノウハウと経営戦略の基礎を習得した。外資系生命保険会社の外務員に転身、ベンチャーキャピタリスト養成講座で習得した財務改善と資本政策支援を武器に3年連続で社内表彰制度（社長杯）とM D R Tを獲得。 \n\n\n\n2000年に株式会社パブリックトラスト設立、現在の「経営地図®️」につながる戦略構築カリキュラムを考案し資金調達コンサルタントとして活動。株式投資型クラウドファンディング（ECF®＝旧グリーンシート）での資金調達支援は20億円超、調達額は業歴と共に日本一を自負している。自らも資金調達を実践し株式公開企業に与えられる4桁の証券コード（3142）を取得した経験を持つ。 \n\n\n\nリーマンショックを契機にコンサルティング業から、教育業に転向し、日本特有の連帯保証融資の撲滅を目指し経営者の能力向上のための経営塾を主宰している。2021年に設立した「ECF®普及協会」には国内全てのECF証券会社が参加した。また、全国各地の財務の知見を持つ保険営業マンを集め財務、理念、戦略構築ノウハウを駆使した経営支援ノウハウを学んでいる。 \n\n\n\n自ら設立した「一般財団 経営者支援学会」初代代表理事に就任し、経済産業省、中小企業庁、商工会議所と連携を図り、経営支援のノウハウの全国への普及を目指している。 \n\n\n\n著書「もしワンピースファンの女子大生が起業したら」（イーグル出版2010年）は3刷のベストセラー、「クラウドファンディング 2.0」（日本文芸社/2018年）は業界のバイブル。iU専門職大学 客員教授、開志専門職大学 特別講師。 \n\n\n\n\n\n\n【お申し込みに際しての注意事項】\n\n\n\n●欠席の場合は事務局までご一報ください。●遅刻早退は不可です、時間に余裕を持ってご参加ください。●必ずカメラはオンでご参加頂ますようお願い致します。また、移動や仕事をしながらなどのながら参加や、カメラがオフの場合は参加をお断りさせていただきます。●時間通りにスタートするため、5分前にはご入室ください。●同業他社様の参加をお断りさせていただいております。 \n\n\n\nこれまでの開催実績\n\n\n\n上場企業経営者や著名人のセミナーの開催実績多数！\n\n\n\n\n\n\n\n\n\n詳細\n\n\n\n\n\n参加費\n\n\n\n\n\n\n\n\n\n主催者\n\n\n\n\n\n\n\n会場
URL:https://kyososhien.or.jp/event/2023120502/
LOCATION:オンライン（ZOOM）での開催
CATEGORIES:オンラインセミナー
ATTACH;FMTTYPE=image/jpeg:https://kyososhien.or.jp/wp-content/uploads/2023/11/370225207_909371264041625_7783461904885371194_n-1.jpg
ORGANIZER;CN="%E7%B5%8C%E5%96%B6%E8%80%85%E3%82%B3%E3%83%9F%E3%83%A5%E3%83%8B%E3%83%86%E3%82%A3%E3%80%8E%E3%81%A4%E3%82%80%E3%81%8E%E4%BC%9A%E3%80%8F":MAILTO:info@kyososhien.or.jp
END:VEVENT
END:VCALENDAR