BEGIN:VCALENDAR
VERSION:2.0
PRODID:-//一般社団法人企業共創支援機構 - ECPv5.14.0.3//NONSGML v1.0//EN
CALSCALE:GREGORIAN
METHOD:PUBLISH
X-WR-CALNAME:一般社団法人企業共創支援機構
X-ORIGINAL-URL:https://kyososhien.or.jp
X-WR-CALDESC:一般社団法人企業共創支援機構 のイベント
REFRESH-INTERVAL;VALUE=DURATION:PT1H
X-Robots-Tag:noindex
X-PUBLISHED-TTL:PT1H
BEGIN:VTIMEZONE
TZID:Asia/Tokyo
BEGIN:STANDARD
TZOFFSETFROM:+0900
TZOFFSETTO:+0900
TZNAME:JST
DTSTART:20230101T000000
END:STANDARD
END:VTIMEZONE
BEGIN:VEVENT
DTSTART;TZID=Asia/Tokyo:20231025T170000
DTEND;TZID=Asia/Tokyo:20231025T180000
DTSTAMP:20260424T225421
CREATED:20231003T052435Z
LAST-MODIFIED:20231003T052504Z
UID:7092-1698253200-1698256800@kyososhien.or.jp
SUMMARY:世界的人気リゾートバリ島 不動産投資セミナー
DESCRIPTION:世界第4位の人口を誇る、インドネシアの経済成長\n\n\n\n世界第4位の人口を誇るインドネシアは、かつてのアジア金融危機を乗り越え、現在、成長率が目覚ましい国として注目を浴びています。インドネシアの人口は2035年には人口3億人を突破、人口ボーナス期がしばらく続くと予想されています。 \n\n\n\nそして経済面でも安定的な成長を続けており、2020年は新型コロナウイルス感染拡大でマイナスの成長率を記録したものの、この10年間、概ね5～6％の成長率を維持しています。 \n\n\n\nそこで注目を浴びているのが、言わずと知れた国際リゾート地、バリ島です。 \n\n\n\nその独特な文化と、国際的な雰囲気が融合したバリ島は、人気旅行先でも常にTOP10内に入り、日本人だけではなく、世界中の多くの人々に愛されています。 \n\n\n\n海外投資家も注目する、バリ島の不動産事情\n\n\n\nここで注意しなければならないのは、インドネシアの土地所有制度において、外国人が土地を直接保有することが許可されていない点です。この点に関して、初めてインドネシアの不動産に興味を持つ方々は特に認識しておくべきでしょう。 \n\n\n\nしかし、バリ島には特例的なソリューションが存在します。それは、ヴィラと呼ばれる別荘を借地権の形式で利用するという方法です。このスタイルは、土地を所有する代わりに一定の期間使用する権利を取得するというもので、特に外国人の投資家やリゾートライフを楽しみたい方々にとって非常に魅力的です。 \n\n\n\nこのヴィラの最大の魅力として挙げられるのは、所有者の不在時に、それを旅行者に対してホテルや宿泊施設として提供できることです。この方式は、継続的な収入源として機能し、バリ島の観光産業の拡大を背景に、多くのオーナーが実際に高い収益を享受しています。 \n\n\n\nそこで今回、1985年創業、30年以上、中小企業の経営指導や支援に従事し、現地デベロッパーや不動産 事業者と数多く提携しているK-innovate株式会社　代表取締役　柏野将史様を講師にお迎えし、バリ島の不動産投資の最新情報をお伝えいたします。 \n\n\n\nセミナーでは、バリ島の不動産市場の現状や将来の展望、成功のための戦略やリスク回避の方法など、投資家として知っておくべき情報を網羅的に学ぶことができます。また、実際の事例や、なかなか市場に出てこないオススメの物件紹介もさせていただきます。 \n\n\n\nこの機会に、バリ島の不動産投資に関する最前線の情報を手に入れ、成功への一歩を踏み出しませんか？参加者の皆様には、セミナー後に個別の質問や相談も可能ですので、具体的な投資計画の策定や悩みの解決にも役立つことでしょう。お早めのお申し込みをお待ちしております。 \n\n\n\nお客様の声紹介\n\n\n\n・初めての海外不動産で不安もあったが、丁寧に対応してくれた。もちろん収益も契約通り入金になっており安心できた。今後もよろしくお願いします。 \n\n\n\n・海外の銀行口座も合わせた提案がユニークで、不動産運用上も非常にメリットがあると感じた。 \n\n\n\n・マレーシアに渡航した際、不動産物件を見てみようと思いK-innovateさんに相談したところすぐに対応してくれて、デベロッパーがホテルまで迎えに来てくれて視察したい物件を現地滞在中にスムーズに見ることができた。迅速な対応ありがとうございました。 \n\n\n\n・セミナー後の個別相談を申し込んだ際、非常に多くの質問をしたのですが、丁寧に対応してくれてとても理解が深まり安心できた。 \n\n\n\n・個別相談時の対応が、信頼できる感じがした。 \n\n\n\n・K-innovateさんでマレーシア物件購入後、マレーシアへ移住することになり自分で住むための物件を探すためにK-innovateさんに相談したが、すぐに現地の提携企業に連絡してくれていろいろな物件を内見できた。結果、他社紹介の物件よりも条件の良い物件を見つけることができて感謝しています。 \n\n\n\n今回のセミナーで学べる内容はこちら\n\n\n\n海外不動産投資成功のための具体的な戦略と手法バリ島の不動産市場の現状と最新トレンド投資先としてのバリ島の地域特性と文化的背景バリ島不動産投資の法的・税制面の注意点バリ島オススメの物件紹介\n\n\n\n\n\n\n柏野 将史 氏K-innovate株式会社　代表取締役 \n\n\n\n1985年に創業し、30年以上にわたり中小企業の経営指導や支援に特化した税理士法人を中心とする経営グループで、コンサルティング、税務、会計の各領域での業務に従事。国内の不動産とは異なる高利回りの物件、キャピタルゲインの期待、リスク分散の魅力などを持つ海外不動産投資の可能性を広めたいとの思いから、2019年にK-innovate株式会社を設立し、代表取締役に就任。豊富な海外の人脈を最大限に活用して、多くのデベロッパーや不動産事業者と提携を推進。これまで、数千名の方々に対して実地調査やオンラインセミナーを通じ、有望な海外不動産の紹介やサポートを実施。コロナ禍の直前にK-innovate株式会社を設立したものの、多くのお客様の支持のもと、順調に成長を遂げ、より多くの富と価値を共に創出していくことを理念に活動中。 \n\n\n\n\n\n\n【お申し込みに際しての注意事項】\n\n\n\n●欠席の場合は事務局までご一報ください。●遅刻早退は不可です、時間に余裕を持ってご参加ください。●必ずカメラはオンでご参加頂ますようお願い致します。また、移動や仕事をしながらなどのながら参加や、カメラがオフの場合は参加をお断りさせていただきます。●時間通りにスタートするため、5分前にはご入室ください。●同業他社様の参加をお断りさせていただいております。 \n\n\n\nこれまでの開催実績\n\n\n\n上場企業経営者や著名人のセミナーの開催実績多数！\n\n\n\n\n\n\n\n\n\n詳細\n\n\n\n\n\n参加費\n\n\n\n\n\n\n\n\n\n主催者\n\n\n\n\n\n\n\n会場
URL:https://kyososhien.or.jp/event/20231025/
LOCATION:オンライン（ZOOM）での開催
CATEGORIES:オンラインセミナー
ATTACH;FMTTYPE=image/png:https://kyososhien.or.jp/wp-content/uploads/2023/10/385395848_1045982896572776_6459615287125254113_n.png
ORGANIZER;CN="%E7%B5%8C%E5%96%B6%E8%80%85%E3%82%B3%E3%83%9F%E3%83%A5%E3%83%8B%E3%83%86%E3%82%A3%E3%80%8E%E3%81%A4%E3%82%80%E3%81%8E%E4%BC%9A%E3%80%8F":MAILTO:info@kyososhien.or.jp
END:VEVENT
END:VCALENDAR