BEGIN:VCALENDAR
VERSION:2.0
PRODID:-//一般社団法人企業共創支援機構 - ECPv5.14.0.3//NONSGML v1.0//EN
CALSCALE:GREGORIAN
METHOD:PUBLISH
X-WR-CALNAME:一般社団法人企業共創支援機構
X-ORIGINAL-URL:https://kyososhien.or.jp
X-WR-CALDESC:一般社団法人企業共創支援機構 のイベント
REFRESH-INTERVAL;VALUE=DURATION:PT1H
X-Robots-Tag:noindex
X-PUBLISHED-TTL:PT1H
BEGIN:VTIMEZONE
TZID:Asia/Tokyo
BEGIN:STANDARD
TZOFFSETFROM:+0900
TZOFFSETTO:+0900
TZNAME:JST
DTSTART:20230101T000000
END:STANDARD
END:VTIMEZONE
BEGIN:VEVENT
DTSTART;TZID=Asia/Tokyo:20231011T150000
DTEND;TZID=Asia/Tokyo:20231011T160000
DTSTAMP:20260424T225420
CREATED:20230913T082350Z
LAST-MODIFIED:20230913T082824Z
UID:7096-1697036400-1697040000@kyososhien.or.jp
SUMMARY:在庫不要・高利益率・継続収益型の結婚相談所ビジネスの始め方
DESCRIPTION:多角化事業展開と理想的ビジネスモデルの4つの要素\n\n\n\n現代の経営者にとって、多角化した事業展開は避けて通れない道となっています。一つの事業に依存すると、その市場の変動や競争状況に左右されるリスクが増大します。 \n\n\n\nまた、経済環境の変化、新たな技術の進化、消費者のニーズの変動など、外部環境の変化によって事業の収益性が大きく影響を受ける可能性があります。このようなリスクを分散し、企業の成長を持続させるためには、事業を多角化することが求められます。 \n\n\n\nそのような中で、成功の要素となるのが「少資本」「在庫不要」「高収益」「継続課金」のビジネスモデルです。 \n\n\n\n理想的な事業モデルを持つ社会貢献型事業とその可能性\n\n\n\n数多く存在するビジネスモデルの中でも、特にこれらの条件を兼ね備えているのが「結婚相談所」のビジネスです。結婚相談所は、初期投資を最小限に抑え、在庫を必要とせず、サービス利用者からの継続的な利益を得ることが可能です。 \n\n\n\nさらに、ただ収益を上げるだけではなく、社会貢献にも直結しています。少子高齢化が進む現代日本において、結婚を促進し新たな家庭を創出することは、地域発展や人口増加に貢献します。このようなポジティブな影響は、企業の社会的責任（CSR）を果たす一環として、また企業としてのブランド力向上やPR活動にも繋がります。 \n\n\n\nまた、婚活市場は現在もなお拡大傾向にあり、独身者の中で婚活して結婚を希望する人が増え続けています。結婚相談所の需要は急激に高まっており、現在でも8万4千人以上の会員(株式会社IBJ調査)が婚活を行っていることから、競合を気にすることなく事業をスタートすることが可能です。 \n\n\n\nそこで今回、日本最大級の結婚相談所ネットワークである株式会社IBJの法人営業部部長、中屋敷恒氏をお迎えし、「在庫不要・高利益率・継続収益型の結婚相談所ビジネスの始め方」というテーマでセミナーを開催することになりました。 \n\n\n\n結婚相談所ビジネスを始めた方々の開業事例\n\n\n\n保険会社A社 推定年商1\,152万円(2020年度)「保険」と「婚活ビジネス」の相性は抜群！マーケティング会社A社 7\,757万円(2020年度)自社のマーケリテラシーを活かした集客ファッションA社 1\,144万円(2020年度)エステB社 推定年商910万円(2020年度)飲食店A社 推定年商2\,348万円(2020年度)小売業B社 推定年商15\,800万円(2020年度)子育てしながら開業 Aさん 推定年商2\,550万円(2020年度)子育てをしながらスキマ時間の活動会社員から開業 Aさん 7月推定売上37.8万円(2021年7月)\n\n\n\n今回のセミナーで得られる知識やスキルについて紹介！\n\n\n\n私たちIBJについてご紹介独身者・未婚者の現状から読み解く婚活マーケットの成長可能性「少資本」「在庫不要」「高収益」「継続課金」を兼ね備えた結婚相談所ビジネスモデルの魅力婚活ビジネスから派生するビジネスメリットと本業との相乗効果結婚相談所ビジネスの未来：市場トレンドに基づく戦略と成長の可能性\n\n\n\n講師紹介\n\n\n\n\n\n\n中屋敷 恒 氏株式会社IBJ　法人営業部　部長 \n\n\n\nIBJ直営店　結婚相談所部門・婚活アドバイザー（大宮・有楽町・銀座）・店長（新宿）・本部営業推進・西日本エリア：担当マネジャーを経て、現職 \n\n\n\n\n\n\n【お申し込みに際しての注意事項】\n\n\n\n●欠席の場合は事務局までご一報ください。●遅刻早退は不可です、時間に余裕を持ってご参加ください。●必ずカメラはオンでご参加頂ますようお願い致します。また、移動や仕事をしながらなどのながら参加や、カメラがオフの場合は参加をお断りさせていただきます。●時間通りにスタートするため、5分前にはご入室ください。●同業他社様の参加をお断りさせていただいております。 \n\n\n\nこれまでの開催実績\n\n\n\n上場企業経営者や著名人のセミナーの開催実績多数！\n\n\n\n\n\n\n\n\n\n詳細\n\n\n\n\n\n参加費\n\n\n\n\n\n\n\n\n\n主催者\n\n\n\n\n\n\n\n会場
URL:https://kyososhien.or.jp/event/202310112/
LOCATION:オンライン（ZOOM）での開催
CATEGORIES:オンラインセミナー
ATTACH;FMTTYPE=image/png:https://kyososhien.or.jp/wp-content/uploads/2023/09/375205569_1011578796844209_3709457612571753966_n.png
ORGANIZER;CN="%E7%B5%8C%E5%96%B6%E8%80%85%E3%82%B3%E3%83%9F%E3%83%A5%E3%83%8B%E3%83%86%E3%82%A3%E3%80%8E%E3%81%A4%E3%82%80%E3%81%8E%E4%BC%9A%E3%80%8F":MAILTO:info@kyososhien.or.jp
END:VEVENT
END:VCALENDAR