BEGIN:VCALENDAR
VERSION:2.0
PRODID:-//一般社団法人企業共創支援機構 - ECPv5.14.0.3//NONSGML v1.0//EN
CALSCALE:GREGORIAN
METHOD:PUBLISH
X-WR-CALNAME:一般社団法人企業共創支援機構
X-ORIGINAL-URL:https://kyososhien.or.jp
X-WR-CALDESC:一般社団法人企業共創支援機構 のイベント
REFRESH-INTERVAL;VALUE=DURATION:PT1H
X-Robots-Tag:noindex
X-PUBLISHED-TTL:PT1H
BEGIN:VTIMEZONE
TZID:Asia/Tokyo
BEGIN:STANDARD
TZOFFSETFROM:+0900
TZOFFSETTO:+0900
TZNAME:JST
DTSTART:20240101T000000
END:STANDARD
END:VTIMEZONE
BEGIN:VEVENT
DTSTART;TZID=Asia/Tokyo:20240411T160000
DTEND;TZID=Asia/Tokyo:20240411T170000
DTSTAMP:20260424T171027
CREATED:20240322T060928Z
LAST-MODIFIED:20240403T074629Z
UID:7614-1712851200-1712854800@kyososhien.or.jp
SUMMARY:無料集客を実現する中小企業のためのInstagram活用術
DESCRIPTION:4月11日、18日と開催が予定されていますが、両日とも内容は同じです。ご都合の良い日程をご選択ください。\n\n\nInstagramの活用で無料集客の実現\n\n\n\nSNSは、今日のビジネス環境において、マーケティング戦略の中心です。製品やサービスの認知度を高め、ユーザーとの関係性の構築や、ブランディングを強化する上で、SNSの役割は計り知れません。 \n\n\n\n特にInstagramはビジュアルの訴求が強く、高品質な写真や動画を通じて、新規顧客の接点作りやブランドの世界観を伝えることができます。また、直接的なコミュニケーションで、ユーザーとの関係を築くことができます。 \n\n\n\nInstagramを効果的に利用している企業は、そのビジュアルコンテンツの魅力と幅広いユーザーベースを活かし、多様なマーケティング活動を展開しています。これには、インフルエンサーとの協業やブランド専用アカウントの運用などが含まれます。 \n\n\n\n企業がInstagramを始める3つのメリット\n\n\n\n1. 新商品をいち早く紹介できる2. 企業の知名度をアップできる3. 直接的な意見がもらえる \n\n\n\nInstagramを最大限に活用し、ビジネスの新たな可能性を探るためには、単にコンテンツを投稿するだけでは不十分です。Instagram特有のビジュアルコンテンツの作成技術や、効果的なファン獲得方法をマスターすることが重要です。 \n\n\n\nそこで今回、中小企業向けの集客支援を100社以上行い、CPAコスト92%削減、売上300%UPなど、集客と収益の最大化に貢献してきたドットアンドノード株式会社　稲垣達也氏が、「無料集客を実現する 中小企業のためのInstagram活用術」セミナーを開催します。 \n\n\n\nInstagram運用実績\n\n\n\n結婚式場: Instagram DMからの問い合わせにより、毎月安定した成約を獲得。リフォーム会社: Instagramを通じた関係性構築が奏功し、成約率が大幅に向上。歯科医院: 新規患者獲得の大部分がWeb経由となり、業績アップに寄与。食品会社: Instagramで紹介された商品がオンラインショップで即売り切れとなる現象を実現。\n\n\n\nこのセミナーは、中小企業のビジネス成長にInstagramを如何に効果的に活用できるか、具体的な戦略と実例を通じて深く掘り下げます。Instagramを使ったビジネスの革新を目指す経営者の皆様にとって、必聴の内容です。 \n\n\n\n実際に改善された成功事例：稲垣氏がもたらした劇的な成果\n\n\n\nCPAコスト92%削減！ダイエット商材が大成功講師養成講座の成約率130%UPで劇的な改善結婚式場、コロナV字復活で前年比300%UP！売上利益も最高更新中ダイビングショップ、売上150%UPで勢いに乗る！パーソナルトレーニングジム、月間反響が200%UPに！創業100年中間製造業、コロナ前比300%売上改善農家、コロナで1000万円の廃棄を防ぎ、1070万円のクラウドファンディング達成！\n\n\n\n今回のセミナーで得られる知識やスキルについて紹介！\n\n\n\nInstagramで成果を出した企業の事例紹介無料集客を実現する様々なSNSの特性Instagramで潜在的な顧客を見つけ、アプローチする方法とは？ブランド価値を高めるための効果的なコンテンツの作り方\n\n\n\n今回のセミナーでは、中小企業でも実現可能な集客と売上最大化のための最新戦略や実践的な施策をご紹介します。成功事例や失敗事例から学び、あなたの会社に合った戦略と戦術を診断する個別相談の時間も設けておりますので、ぜひご参加ください。 \n\n\n\n講師紹介\n\n\n\n\n\n\n稲垣達也 氏合同会社TEAM GLOBE 代表ドットアンドノード株式会社 代表取締役 \n\n\n\nGoogle、Facebookなどの　ビックデータやAIを活用し、広告費用の最適化を得意とする。幅広い業種で売上・集客・コスト減に貢献。 \n\n\n\n[実績]創業100年の中間製造業　コロナ前比300%以上に売上を改善結婚式場の集客　大手ポータルサイトと比較して、自社サイトで7倍集客実現農家をクラウドファンディング支援で1070万円達成　目標の21倍実現レジャー提供会社　店舗売上コロナ前比150%初めてネット通販に進出　4ヶ月で3000件以上の見込み客の獲得に成功不動産業者の顧客問い合わせ数を30倍 コンサル先のROASを6ヶ月で、225%⇨2490%に改善など、数々の業績に貢献する。\n\n\n\nその他、鉄道会社、地方TVキー局、大手企業、自治体などの取引あり。 \n\n\n\n[経歴]1984年　岐阜県瑞浪市の田舎生まれ2002年　携帯待ち受け画像サイトの運営　お小遣い稼ぎ10万円/月程度（高校2年生）2007年　横浜国立大学経済学部卒業2007年　阪和興業株式会社入社　名古屋支社配属　鉄鋼製品の輸出入営業など2015年　退職 2016年　ハウスドゥ静岡本通店　店長2017年　2～4月買取ランキング　ハウスドゥ内3か月連続1位　FC内全国大会で講演、個人粗利ランキング　ハウスドゥ全国1位2018年　退職2019年　合同会社TEAM GLOBE 創業　WEB事業開始2021年　空きテナント活用商店街活性化サイネージ広告『Pocket』運用開始 \n\n\n\n[お取引企業様]●インフラ系鉄道、テレビ、エネルギー、不動産会社、自動車部品、静岡市、スポーツ施設　など●専門職系税務署　士業（司法書士、税理士、弁護士、社労士・・）、M&Aコンサル、歯科医、県介護福祉士会、マンションデベロッパー、システム開発、整体院、美容室　など●飲食、生活系など飲食店、農家、ダイエット食品、レジャー会社、食品製造、武具、ネイル、片付け、太陽光発電、リフォーム、エステ、ヨガ、物販、トレーナー、英会話講師育成　など \n\n\n\n4月11日、18日と開催が予定されていますが、両日とも内容は同じです。ご都合の良い日程をご選択ください。\n\n\n【お申し込みに際しての注意事項】\n\n\n\n●欠席の場合は事務局までご一報ください。●遅刻早退は不可です、時間に余裕を持ってご参加ください。●必ずカメラはオンでご参加頂ますようお願い致します。また、移動や仕事をしながらなどのながら参加や、カメラがオフの場合は参加をお断りさせていただきます。●時間通りにスタートするため、5分前にはご入室ください。●同業他社様の参加をお断りさせていただいております。 \n\n\n\nこれまでの開催実績\n\n\n\n上場企業経営者や著名人のセミナーの開催実績多数！\n\n\n\n4月11日、18日と開催が予定されていますが、両日とも内容は同じです。ご都合の良い日程をご選択ください。\n\n\n\n\n\n詳細\n\n\n\n\n\n参加費\n\n\n\n\n\n\n\n\n\n主催者\n\n\n\n\n\n\n\n会場\n\n\n\n\n\n\n\n\n4月11日、18日と開催が予定されていますが、両日とも内容は同じです。ご都合の良い日程をご選択ください。
URL:https://kyososhien.or.jp/event/20240411/
LOCATION:オンライン（ZOOM）での開催
CATEGORIES:オンラインセミナー
ATTACH;FMTTYPE=image/jpeg:https://kyososhien.or.jp/wp-content/uploads/2024/03/seminer_inagaki-1.jpg
ORGANIZER;CN="%E7%B5%8C%E5%96%B6%E8%80%85%E3%82%B3%E3%83%9F%E3%83%A5%E3%83%8B%E3%83%86%E3%82%A3%E3%80%8E%E3%81%A4%E3%82%80%E3%81%8E%E4%BC%9A%E3%80%8F":MAILTO:info@kyososhien.or.jp
END:VEVENT
BEGIN:VEVENT
DTSTART;TZID=Asia/Tokyo:20240417T160000
DTEND;TZID=Asia/Tokyo:20240417T170000
DTSTAMP:20260424T171027
CREATED:20240401T070734Z
LAST-MODIFIED:20240420T062434Z
UID:7632-1713369600-1713373200@kyososhien.or.jp
SUMMARY:マリオットブランドで行う海外民泊不動産投資セミナー￼
DESCRIPTION:日本国内だけでの資産構築の限界\n\n\n\n日本国内での資産構築には、円安の進行や都心部不動産の価格高騰といった経済環境の変化に伴う限界が見え始めています。これにより、安定した収益の確保と将来の資産増を目指す上で、新たな解決策の必要性が高まっています。 \n\n\n\n特に、コロナウイルスの影響を経て、多くの投資家が如何にしてリスクを分散し、グローバルな視点で資産を成長させるかを考え始めています。 \n\n\n\nこのような時代の変化の波に乗り、海外へと視野を広げ、新たな市場での資産構築を真剣に考えるべきです。その最前線で注目されているのは、「マレーシア」。アジアの成長する市場の中でも、特に投資機会が豊富で、政治的に安定しており、経済の成長が続いている国です。 \n\n\n\nマリオットブランドで行う民泊物件\n\n\n\nマレーシア不動産投資のメリット \n\n\n\n1:経済の安定と成長性マレーシア経済は、多様な産業基盤と政府の積極的な外資誘致策により、安定した成長を続けています。これは投資家にとって安定した収益源を確保する絶好の機会を意味します。 \n\n\n\n2:観光業の拡大豊かな自然と文化を背景に、マレーシアは世界中から観光客を引き寄せています。特に、国際的なホテルが進出していることは、不動産投資の魅力を一層高めています。 \n\n\n\n3:投資環境の良さ外国人投資家に対する所有権の保障、投資に関する政府の支援、比較的低い物価など、マレーシアは外国人投資家にとって魅力的な環境を提供しています。 \n\n\n\nそこでこの度、マレーシアの民泊物件について、ご紹介させていただくセミナーを開催することになりました。 \n\n\n\n民泊の大きな利点は、短期間の宿泊ニーズに応える柔軟性にあります。特に観光地やビジネスエリアでは、一年を通して安定した宿泊需要が見込まれます。この高い需要を背景に、民泊物件は日単位での高い宿泊料金設定が可能となり、結果として長期賃貸に比べて高い利回りを実現します。 \n\n\n\n今回セミナー内でご紹介させていただく物件は、世界的に有名なマリオットブランドと連携し、高いブランド力を持ち高利回りが期待できる物件です。都心部に位置し、ビジネスや観光の需要が絶えず高いエリアに特化した、市場にほとんど出回らない貴重な物件情報をお届けします。 \n\n\n\nまた、参加者限定で、マリオットブランドの物件情報をご案内する個別相談会も実施予定です。一般にはなかなか出回らない、選び抜かれた投資機会をご案内します。さらに、民泊運営のノウハウから資産構築の戦略まで、専門家によるアドバイスを得られる機会です。 \n\n\n\nぜひこの機会をお見逃しなく。ご参加をお待ちしております。 \n\n\n\nお客様の声紹介\n\n\n\n・初めての海外不動産で不安もあったが、丁寧に対応してくれた。もちろん収益も契約通り入金になっており安心できた。今後もよろしくお願いします。 \n\n\n\n・海外の銀行口座も合わせた提案がユニークで、不動産運用上も非常にメリットがあると感じた。 \n\n\n\n・マレーシアに渡航した際、不動産物件を見てみようと思いK-innovateさんに相談したところすぐに対応してくれて、デベロッパーがホテルまで迎えに来てくれて視察したい物件を現地滞在中にスムーズに見ることができた。迅速な対応ありがとうございました。 \n\n\n\n・セミナー後の個別相談を申し込んだ際、非常に多くの質問をしたのですが、丁寧に対応してくれてとても理解が深まり安心できた。 \n\n\n\n・個別相談時の対応が、信頼できる感じがした。 \n\n\n\n・K-innovateさんでマレーシア物件購入後、マレーシアへ移住することになり自分で住むための物件を探すためにK-innovateさんに相談したが、すぐに現地の提携企業に連絡してくれていろいろな物件を内見できた。結果、他社紹介の物件よりも条件の良い物件を見つけることができて感謝しています。 \n\n\n\n今回のセミナーで学べる内容はこちら\n\n\n\n海外不動産投資成功のための具体的な戦略と手法マレーシアでの投資戦略クアラルンプール都心部での民泊運営の優位性と注意点民泊運営に有利な物件の特徴とは？おすすめの物件のご紹介\n\n\n\n\n\n\n柏野 将史 氏K-innovate株式会社　代表取締役 \n\n\n\n1985年に創業し、30年以上にわたり中小企業の経営指導や支援に特化した税理士法人を中心とする経営グループで、コンサルティング、税務、会計の各領域での業務に従事。国内の不動産とは異なる高利回りの物件、キャピタルゲインの期待、リスク分散の魅力などを持つ海外不動産投資の可能性を広めたいとの思いから、2019年にK-innovate株式会社を設立し、代表取締役に就任。豊富な海外の人脈を最大限に活用して、多くのデベロッパーや不動産事業者と提携を推進。これまで、数千名の方々に対して実地調査やオンラインセミナーを通じ、有望な海外不動産の紹介やサポートを実施。コロナ禍の直前にK-innovate株式会社を設立したものの、多くのお客様の支持のもと、順調に成長を遂げ、より多くの富と価値を共に創出していくことを理念に活動中。 \n\n\n\n\n\n\n【お申し込みに際しての注意事項】\n\n\n\n●欠席の場合は事務局までご一報ください。●遅刻早退は不可です、時間に余裕を持ってご参加ください。●必ずカメラはオンでご参加頂ますようお願い致します。また、移動や仕事をしながらなどのながら参加や、カメラがオフの場合は参加をお断りさせていただきます。●時間通りにスタートするため、5分前にはご入室ください。●同業他社様の参加をお断りさせていただいております。 \n\n\n\nこれまでの開催実績\n\n\n\n上場企業経営者や著名人のセミナーの開催実績多数！\n\n\n\n\n\n\n\n\n\n詳細\n\n\n\n\n\n参加費\n\n\n\n\n\n\n\n\n\n主催者\n\n\n\n\n\n\n\n会場
URL:https://kyososhien.or.jp/event/20240417/
LOCATION:オンライン（ZOOM）での開催
CATEGORIES:オンラインセミナー
ATTACH;FMTTYPE=image/jpeg:https://kyososhien.or.jp/wp-content/uploads/2024/04/4e0dbbfd-2cbb-4a50-97c8-9b57599f8742.jpeg
ORGANIZER;CN="%E7%B5%8C%E5%96%B6%E8%80%85%E3%82%B3%E3%83%9F%E3%83%A5%E3%83%8B%E3%83%86%E3%82%A3%E3%80%8E%E3%81%A4%E3%82%80%E3%81%8E%E4%BC%9A%E3%80%8F":MAILTO:info@kyososhien.or.jp
END:VEVENT
BEGIN:VEVENT
DTSTART;TZID=Asia/Tokyo:20240709T110000
DTEND;TZID=Asia/Tokyo:20240709T120000
DTSTAMP:20260424T171027
CREATED:20240611T062807Z
LAST-MODIFIED:20240611T062807Z
UID:8506-1720522800-1720526400@kyososhien.or.jp
SUMMARY:ブライトリーチオンライン企業説明会
DESCRIPTION:想像してみてください。 \n\n\n\n毎日、「保険の相談がしたい」という見込み客から連絡してくれるとしたら、保険営業はどれだけ楽しく、やりがいに満ちた仕事になるでしょうか？ \n\n\n\nもちろん、今だってあなたは保険募集人という仕事に誇りを持ち、精一杯、お客様の期待に応え、将来の不安を解消し、より良い人生を生きてもらえるように最善を尽くしていると思います。 \n\n\n\nしかし、一方でこんな不安を感じているのではないでしょうか？ \n\n\n\n一体いつまでこの仕事を続ける事ができるのだろうか？ \n\n\n\n実際、保険営業は２年で９割の人が辞めていくといいます。 \n\n\n\n転職大手マイナビ・エージェントによると、保険営業を辞めたいと思う理由は以下のような内容です。 \n\n\n\nノルマがきつく、収入が安定していないプライベートな時間が取れないスキルアップが難しい\n\n\n\n華々しい成果を上げるトップセールスパーソンがいる一方で、辞めていく人も多いのが保険営業の仕事ですよね。 \n\n\n\nアポイントはすべてを癒す \n\n\n\n実はこの３つの理由はすべて「アポイント」が取れれば解消することができます。 \n\n\n\nまず、アポイントさえあれば、・ノルマをクリアするのも楽勝→当然、収入も安定する・収入が安定すればプライベートな時間も確保できる・スキルアップはたくさんのお客様に提案することで自然とできる \n\n\n\n結局、保険営業で成功するための鍵はアポイントです。 \n\n\n\nあなたの情熱や努力、スキルの高さを活かすためにはもっとたくさんのアポイントが必要です。 \n\n\n\n月間200件の有効アポイントが流入する環境で働いてみませんか？ \n\n\n\n実は、当社・ブライトリーチは「ある仕組み」のお陰で、毎月、200件以上のアポイントが流れ込んできています。もちろん、「保険の相談がしたい」というお客様からのアポイントです。保険営業パーソンとして、何年も活躍してきたあなたなら、この価値がわかるでしょう。 \n\n\n\n保険で解決できない問題も解決して一層のお役立ちを \n\n\n\nあるいは優秀なあなたは、アポイントに不安をいだいていないかもしれません。保険営業をしてきた方なら、保険以外の課題解決が必要になった経験もあるでしょう。 \n\n\n\n個人のお客様なら、損害保険や、不動産の相談などをされるケースも多いと思います。 \n\n\n\nそもそも、ライフステージの変化が保険契約のきっかけになることが多いですよね。 \n\n\n\n例えば、結婚、お子様の誕生、お子様の小学校入学にともなって、お客様が自動車を購入したり、引っ越しを検討されることも少なくありません。 \n\n\n\nそういうケースでは、不動産や損保のニーズが発生します。 \n\n\n\nあるいは、転職というお客様にとって大きな人生の岐路に立ち会う場面もあるでしょう。 \n\n\n\nしかし、これまでは、保険営業パーソンは解決できる第三者をお客様にご紹介するしかありませんでした。 \n\n\n\nまた、あなたの顧客に経営者がいれば採用のご相談を受けるケースも多いかもしれません。 \n\n\n\n今、採用を考えているんだけど「いい人知らない？」そういった相談に答えられたとしたら、お客様はどれだけ喜んでくれるでしょうか？ \n\n\n\nブライトリーチならすべてのお悩みを解決可能 \n\n\n\nブライトリーチでは、総合保険代理店として生命保険はもちろん、損害保険も取り扱っています。それだけではなく、不動産会社と人材紹介会社の資格も持っています。 \n\n\n\nもし、あなたが「もっとお客様のお役に立ちたい」「お客様にとって真のパートナーになりたい」と考えているならブライトリーチは最高の環境をご提供できるでしょう。 \n\n\n\n保険以外の商品でお客様に貢献すると・・・ \n\n\n\n当然ながら、別のタイミングで保険のご相談を受けることになるでしょう。 \n\n\n\nお客様にとって重要な不動産や損害保険、あるいは転職など人生に関わるような相談もあるかもしれません。 \n\n\n\nお客様が経営者ならば人材の悩みを解消することで、あなたは他の営業パーソンとは比較にならないほどの信用と信頼を獲得するはずです。 \n\n\n\n生命保険は素晴らしい商品です。 \n\n\n\nしかし、あなたの才覚を存分に発揮してお客様に貢献するためには、不動産、損害保険、人材紹介などなどのもっと多くの武器が必要なのではないでしょうか？ \n\n\n\n人生は一度きり悔いのない保険営業人生を \n\n\n\n私はあなたがプロとして誇りをもった保険営業パーソンだと考えています。 \n\n\n\nきっとあなたは、お客様への貢献意識に富み、日々、自己成長を目指して前向きに努力を重ねているでしょう。 \n\n\n\n当社はあなたのような保険営業パーソンを求めています。 \n\n\n\nブライトリーチでは、 \n\n\n\n・自社に月間200件のニーズが顕在化したアポイントが流入・全23社の保険商品を取り扱うことが可能・生命保険だけでなく損害保険も取り扱い・不動産（賃貸・売買）もご提供・経営者様の採用のお悩みには人材紹介サービスも提供可能・お客様の転職の相談にもお応えできるようになる \n\n\n\nといった体制を備えた会社です。 \n\n\n\nあなたのスキルと情熱を最大限活かせるフィールドを用意しています。 \n\n\n\nもちろん、あなたを保険営業の世界に誘ってくれた今の組織にも愛着があると思います。しかし、人生は一度きり。 \n\n\n\nもし、少しでもご興味があれば一度、当社のオンライン企業説明会に来ませんか？ \n\n\n\nブライトリーチ　オンライン企業説明会 \n\n\n\nブライトリーチオンライン企業説明会では、・毎月自動的で200アポイントが流入するメカニズム・生保だけでなく、損保、不動産、人材紹介などを提供できる根拠と実例・ブライトリーチならではのキャリアの拡げ方や可能性 \n\n\n\nについてお話させていただきます。 \n\n\n\n安心してください。 \n\n\n\nあなたが、まだ転職しようと決意しているわけではないことはわかっています。それに、転職を考えていることを同僚や先輩、上司に知られたくないと思っていることも。 \n\n\n\nそんな中、ブライトリーチの話を聞いてみようと決意してくれたあなたのプライバシーには最大限の配慮をお約束します。 \n\n\n\nお約束 \n\n\n\n顔出し不要、参加時は登録名を実名にする必要もありません。誰に知られることもなく参加できるようにします。 \n\n\n\n開催日時2024年7月9日(火)11:00〜12:00開催場所オンライン(ZOOM)\n\n\n\n参加方法下記のボタンからお申し込みください。 \n\n\n\n\n\n\n\n最後までお読みいただきありがとうございます。 \n\n\n\n顧客に「最高の価値」を提供できる未来の仲間にお会いできることを楽しみにしております。 \n\n\n\n株式会社BrightReach代表取締役　青柳雄太郎 \n\n\n\n追伸：「本当にすぐに転職する気がなくてもいいの？」という方はご安心ください。あくまで選択肢の一つとして当社の環境を確認していただくだけでも結構です。 \n\n\n\n追追伸：当社に入社して新たにMDRTホルダーになったり、連続でMDRT資格を獲得しているスタッフが何人もいます。豊富な有効アポイントがあるのはやはり大きいです。 \n\n\n\n会社概要\n\n\n\n会社名株式会社BrightReach（ブライトリーチ）会社設立日2012年9月3日役員代表取締役　青柳 雄太郎取締役　北田 豊事業内容・ファイナンシャルコンサルティング事業・保険代理店事業・転職支援事業（有料職業紹介事業許可番号　13－ユ－307083）・不動産事業 （宅地建物取引免許証番号　東京都知事（2）第099623号）・企業向けコンサルティング事業本店所在地〒104-0043 東京都中央区湊1-8-11　八丁堀エイトビル6階【アクセス】地下鉄 有楽町線：『新富町駅』徒歩10分地下鉄 日比谷線：『八丁堀駅』徒歩7分ＪＲ京葉線：『八丁堀駅』徒歩5分浜松支社〒432-8068 静岡県浜松市中央区大平台1丁目36-5\n\n\n\n\n\n\n\n登壇者プロフィール\n\n\n\n\n\n\n代表取締役　青柳 雄太郎 株式会社BrightReach \n\n\n\n慶應義塾大学理工学部卒業後、大手グローバルコンサルティングファームで業務・ＩＴコンサルティングに従事。 その後、不動産ファンドにてファンドマネージャー・社長室、外資系生命保険会社で経営企画部門を歴任。 2012年9月に株式会社BrightReachを設立し現在に至る。 \n\n\n\n下記のボタンからお申し込みください。 \n\n\n\n\n\n\n【お申し込みに際しての注意事項】\n\n\n\n●欠席の場合は事務局までご一報ください。●遅刻早退は不可です、時間に余裕を持ってご参加ください。●カメラはオフの状態でご参加いただけます。また、お名前もニックネームなどで問題ございません。●時間通りにスタートするため、5分前にはご入室ください。●同業他社様の参加をお断りさせていただいております。 \n\n\n\nこれまでの開催実績\n\n\n\n上場企業経営者や著名人のセミナーの開催実績多数！\n\n\n\n\n\n\n\n\n\n詳細\n\n\n\n\n\n参加費\n\n\n\n\n\n\n\n\n\n主催者\n\n\n\n\n\n\n\n会場
URL:https://kyososhien.or.jp/event/20240709/
LOCATION:オンライン（ZOOM）での開催
CATEGORIES:オンラインセミナー
ATTACH;FMTTYPE=image/jpeg:https://kyososhien.or.jp/wp-content/uploads/2024/06/445991872_838579068426089_6386891662290168334_n.jpg
ORGANIZER;CN="%E7%B5%8C%E5%96%B6%E8%80%85%E3%82%B3%E3%83%9F%E3%83%A5%E3%83%8B%E3%83%86%E3%82%A3%E3%80%8E%E3%81%A4%E3%82%80%E3%81%8E%E4%BC%9A%E3%80%8F":MAILTO:info@kyososhien.or.jp
END:VEVENT
BEGIN:VEVENT
DTSTART;TZID=Asia/Tokyo:20240823T130000
DTEND;TZID=Asia/Tokyo:20240823T140000
DTSTAMP:20260424T171027
CREATED:20240803T092005Z
LAST-MODIFIED:20240803T092006Z
UID:8567-1724418000-1724421600@kyososhien.or.jp
SUMMARY:ブライトリーチオンライン企業説明会
DESCRIPTION:MDRT達成率50％以上の会社の捌けないほどアポイントが取れるマーケティングの仕組み大公開！ \n\n\n\n率直に言います。 \n\n\n\nせっかく保険営業の世界に飛び込んだのなら、お客様に貢献して大きな成果を上げたい。 \n\n\n\nさらに言えば、MDRT、COT、TOTを目指してみたいと思いませんか？ \n\n\n\nそもそもMDRTは狭き門です。 \n\n\n\n手数料ベース、保険料ベース、収入ベースの3つの基準がありますが、いずれの場合も高い基準をクリアする必要があります。 \n\n\n\nさらにCOT、TOTとなると、COTならMDRTの3倍、TOTなら6倍の基準を満たす必要があります。 \n\n\n\nMDRT会員の中でも、COTは20%、TOTは5％にすぎません。 \n\n\n\nもちろんそれだけに、目指しがいのある価値ある基準であるのも確かです。 \n\n\n\nしかし、です。 \n\n\n\nもし、今よりもさらに多くのアポイントが「自動的に」「毎月」「捌ききれないほど」あなたのスケジュール帳に流れ込んでくるとしたらどうでしょうか？ \n\n\n\n俄然、MDRTを目指している人、あるいはMDRTを維持してCOTを狙っている人なら、その価値がわかるはずです。 \n\n\n\n月間200件の有効アポイントが流入する環境で働いてみませんか？ \n\n\n\n実は、当社・ブライトリーチは「ある仕組み」のお陰で、毎月、200件以上のアポイントが流れ込んできています。 \n\n\n\nもちろん、「保険の相談がしたい」というお客様からのアポイントです。 \n\n\n\n保険営業パーソンとして、何年も活躍してきたあなたなら、この価値がわかるでしょう。 \n\n\n\n大量のアポイントを獲得できるのは、ブライトリーチが他者が真似できない「マーケティング」の仕組みを作っているからです。 \n\n\n\n組織としてアポイント獲得の仕組みを持つことで、会社全体としてMDRT基準達成率50%という圧倒的な成果を実現しています。 \n\n\n\nそして、実のところアポイントが取れすぎて、対応できる営業パーソンが足りないのが現状です。MDRTを目指すなら、ブライトリーチ以上の環境はそう多くなはないでしょう。 \n\n\n\n保険で解決できない問題も解決して一層のお役立ちを \n\n\n\nあるいは優秀なあなたは、アポイントに不安をいだいていないかもしれません。 \n\n\n\n保険営業をしてきた方なら、保険以外の課題解決が必要になった経験もあるでしょう。 \n\n\n\n個人のお客様なら、損害保険や、不動産の相談などをされるケースも多いと思います。 \n\n\n\nそもそも、ライフステージの変化が保険契約のきっかけになることが多いですよね。 \n\n\n\n例えば、結婚、お子様の誕生、お子様の小学校入学にともなって、お客様が自動車を購入したり、引っ越しを検討されることも少なくありません。 \n\n\n\nそういうケースでは、不動産や損保のニーズが発生します。 \n\n\n\nあるいは、転職というお客様にとって大きな人生の岐路に立ち会う場面もあるでしょう。 \n\n\n\nしかし、これまでは、保険営業パーソンは解決できる第三者をお客様にご紹介するしかありませんでした。 \n\n\n\nまた、あなたの顧客に経営者がいれば採用のご相談を受けるケースも多いかもしれません。 \n\n\n\n今、採用を考えているんだけど「いい人知らない？」そういった相談に答えられたとしたら、お客様はどれだけ喜んでくれるでしょうか？ \n\n\n\nブライトリーチならすべてのお悩みを解決可能 \n\n\n\nブライトリーチでは、総合保険代理店として生命保険はもちろん、損害保険も取り扱っています。 \n\n\n\nそれだけではなく、不動産会社と人材紹介会社の資格も持っています。 \n\n\n\nもし、あなたが「もっとお客様のお役に立ちたい」「お客様にとって真のパートナーになりたい」と考えているならブライトリーチは最高の環境をご提供できるでしょう。 \n\n\n\n保険以外の商品でお客様に貢献すると・・・ \n\n\n\n当然ながら、別のタイミングで保険のご相談を受けることになるでしょう。 \n\n\n\nお客様にとって重要な不動産や損害保険、あるいは転職など人生に関わるような相談もあるかもしれません。 \n\n\n\nお客様が経営者ならば人材の悩みを解消することで、あなたは他の営業パーソンとは比較にならないほどの信用と信頼を獲得するはずです。 \n\n\n\n生命保険は素晴らしい商品です。 \n\n\n\nしかし、あなたの才覚を存分に発揮してお客様に貢献するためには、不動産、損害保険、人材紹介などなどのもっと多くの武器が必要なのではないでしょうか？ \n\n\n\n人生は一度きり悔いのない保険営業人生を \n\n\n\n私はあなたがプロとして誇りをもった保険営業パーソンだと考えています。 \n\n\n\nきっとあなたは、お客様への貢献意識に富み、日々、自己成長を目指して前向きに努力を重ねているでしょう。 \n\n\n\n当社はあなたのような保険営業パーソンを求めています。 \n\n\n\nブライトリーチでは、 \n\n\n\n・自社に月間200件のニーズが顕在化したアポイントが流入・全23社の保険商品を取り扱うことが可能・生命保険だけでなく損害保険も取り扱い・不動産（賃貸・売買）もご提供・経営者様の採用のお悩みには人材紹介サービスも提供可能・お客様の転職の相談にもお応えできるようになる \n\n\n\nといった体制を備えた会社です。 \n\n\n\nあなたのスキルと情熱を最大限活かせるフィールドを用意しています。 \n\n\n\nもちろん、あなたを保険営業の世界に誘ってくれた今の組織にも愛着があると思います。しかし、人生は一度きり。 \n\n\n\nもし、少しでもご興味があれば一度、当社のオンライン企業説明会に来ませんか？ \n\n\n\nブライトリーチ　オンライン企業説明会 \n\n\n\nブライトリーチオンライン企業説明会では、 \n\n\n\n・毎月自動的で200アポイントが流入するメカニズム・生保だけでなく、損保、不動産、人材紹介などを提供できる根拠と実例・ブライトリーチならではのキャリアの拡げ方や可能性 \n\n\n\nについてお話させていただきます。 \n\n\n\n安心してください。 \n\n\n\nあなたが、まだ転職しようと決意しているわけではないことはわかっています。それに、転職を考えていることを同僚や先輩、上司に知られたくないと思っていることも。 \n\n\n\nそんな中、ブライトリーチの話を聞いてみようと決意してくれたあなたのプライバシーには最大限の配慮をお約束します。 \n\n\n\nお約束 \n\n\n\n顔出し不要、参加時は登録名を実名にする必要もありません。誰に知られることもなく参加できるようにします。 \n\n\n\n開催日時2024年8月23日(金)13:00〜14:00開催場所オンライン(ZOOM)\n\n\n\n参加方法下記のボタンからお申し込みください。 \n\n\n\n\n\n\n\n最後までお読みいただきありがとうございます。 \n\n\n\n顧客に「最高の価値」を提供できる未来の仲間にお会いできることを楽しみにしております。 \n\n\n\n株式会社BrightReach代表取締役　青柳雄太郎 \n\n\n\n追伸：「本当にすぐに転職する気がなくてもいいの？」という方はご安心ください。あくまで選択肢の一つとして当社の環境を確認していただくだけでも結構です。 \n\n\n\n追追伸：当社に入社して新たにMDRTホルダーになったり、連続でMDRT資格を獲得しているスタッフが何人もいます。豊富な有効アポイントがあるのはやはり大きいです。 \n\n\n\n会社概要\n\n\n\n会社名株式会社BrightReach（ブライトリーチ）会社設立日2012年9月3日役員代表取締役　青柳 雄太郎取締役　北田 豊事業内容・ファイナンシャルコンサルティング事業・保険代理店事業・転職支援事業（有料職業紹介事業許可番号　13－ユ－307083）・不動産事業 （宅地建物取引免許証番号　東京都知事（2）第099623号）・企業向けコンサルティング事業本店所在地〒104-0043 東京都中央区湊1-8-11　八丁堀エイトビル6階【アクセス】地下鉄 有楽町線：『新富町駅』徒歩10分地下鉄 日比谷線：『八丁堀駅』徒歩7分ＪＲ京葉線：『八丁堀駅』徒歩5分浜松支社〒432-8068 静岡県浜松市中央区大平台1丁目36-5\n\n\n\n\n\n\n\n登壇者プロフィール\n\n\n\n\n\n\n代表取締役　青柳 雄太郎 株式会社BrightReach \n\n\n\n慶應義塾大学理工学部卒業後、大手グローバルコンサルティングファームで業務・ＩＴコンサルティングに従事。 その後、不動産ファンドにてファンドマネージャー・社長室、外資系生命保険会社で経営企画部門を歴任。 2012年9月に株式会社BrightReachを設立し現在に至る。 \n\n\n\n下記のボタンからお申し込みください。 \n\n\n\n\n\n\n【お申し込みに際しての注意事項】\n\n\n\n●欠席の場合は事務局までご一報ください。●遅刻早退は不可です、時間に余裕を持ってご参加ください。●カメラはオフの状態でご参加いただけます。また、お名前もニックネームなどで問題ございません。●時間通りにスタートするため、5分前にはご入室ください。●同業他社様の参加をお断りさせていただいております。 \n\n\n\nこれまでの開催実績\n\n\n\n上場企業経営者や著名人のセミナーの開催実績多数！\n\n\n\n\n\n\n\n\n\n詳細\n\n\n\n\n\n参加費\n\n\n\n\n\n\n\n\n\n主催者\n\n\n\n\n\n\n\n会場
URL:https://kyososhien.or.jp/event/20240823/
LOCATION:オンライン（ZOOM）での開催
CATEGORIES:オンラインセミナー
ATTACH;FMTTYPE=image/jpeg:https://kyososhien.or.jp/wp-content/uploads/2024/08/449803608_919657729928544_1980186391859818819_n.jpg
ORGANIZER;CN="%E7%B5%8C%E5%96%B6%E8%80%85%E3%82%B3%E3%83%9F%E3%83%A5%E3%83%8B%E3%83%86%E3%82%A3%E3%80%8E%E3%81%A4%E3%82%80%E3%81%8E%E4%BC%9A%E3%80%8F":MAILTO:info@kyososhien.or.jp
END:VEVENT
END:VCALENDAR