BEGIN:VCALENDAR
VERSION:2.0
PRODID:-//一般社団法人企業共創支援機構 - ECPv5.14.0.3//NONSGML v1.0//EN
CALSCALE:GREGORIAN
METHOD:PUBLISH
X-WR-CALNAME:一般社団法人企業共創支援機構
X-ORIGINAL-URL:https://kyososhien.or.jp
X-WR-CALDESC:一般社団法人企業共創支援機構 のイベント
REFRESH-INTERVAL;VALUE=DURATION:PT1H
X-Robots-Tag:noindex
X-PUBLISHED-TTL:PT1H
BEGIN:VTIMEZONE
TZID:Asia/Tokyo
BEGIN:STANDARD
TZOFFSETFROM:+0900
TZOFFSETTO:+0900
TZNAME:JST
DTSTART:20230101T000000
END:STANDARD
END:VTIMEZONE
BEGIN:VEVENT
DTSTART;TZID=Asia/Tokyo:20230824T150000
DTEND;TZID=Asia/Tokyo:20230824T160000
DTSTAMP:20260425T202057
CREATED:20230801T044321Z
LAST-MODIFIED:20230801T050836Z
UID:6908-1692889200-1692892800@kyososhien.or.jp
SUMMARY:効率化とコスト削減を実現する Webスキル人材育成術
DESCRIPTION:デジタルマーケティング時代に欠かせないWebスキルとその重要性\n\n\n\n企業がWebサイトを持つことは今や当たり前となり、一部の企業ではTwitter、Instagram、YouTubeなどのSNSを積極的に活用しています。Webサイトだけでなく、SNSなど様々なチャネルで情報を得てユーザーが購入を決めたり、就活生の6割がSNSで企業の情報収集をする時代において、かつての「うちはアナログ企業だから」といった言い訳は通用しなくなりました。 \n\n\n\nそのため、デザインやコーディング、動画制作、SNSの運用など、Webスキルが必要不可欠となりました。しかしながら、社内に適切な人材が不足している企業も多いのではないでしょうか。そのような企業では、これらの作業を外注していることが一般的です。 \n\n\n\n外注には外部の知見やスキルを活用できるメリットがある一方で、対応の遅れや認識のすり合わせが難しいといった課題も存在します。特に、対象分野に知識がない場合は適正価格を見極めることが難しく、ディレクションも困難になります。 \n\n\n\nさらに、制作フローを理解していないことにより、要件定義が曖昧になったり、納期間近での要件変更が発生し、無理な要求によって追加コストが発生するリスクもあります。また、思った通りの成果物が得られない可能性も考えられます。 \n\n\n\n内製化が企業の成長と競争力強化に資する重要な戦略\n\n\n\nこのような課題に直面している企業様にとって、内製化は有益な解決策です。内製化による主なメリットは次の通りです。 \n\n\n\nメリット① スキルの育成と柔軟な対応内製化により、社内のメンバーに必要なスキルを育成することができます。デザインやコーディング、動画制作、SNSの運用などの知識を身につけた社員は、即座に対応できるため、スピーディな業務処理が可能となります。また、変化するマーケットに対応しやすく、柔軟な対応ができる点も魅力です。 \n\n\n\nメリット② コスト削減とクオリティ管理外部に依頼する場合は、その都度コストが発生しますが、内製化によって外注費用を削減できます。さらに、社内のチームが一貫したクオリティを保ちながら制作に取り組むことで、ブランドイメージの統一や効果的なマーケティングが可能になります。 \n\n\n\nメリット③ 情報共有と効率化社内で作業を進めるため、情報共有や意思疎通がスムーズに行われます。これにより、誤解やミスのリスクを低減し、プロジェクトの進行を効率化します。また、外部委託先との調整時間を省くことで、制作期間が短縮されることも期待できます。 \n\n\n\nメリット④ セキュリティと機密性の確保重要な情報を社内で管理することで、情報漏洩のリスクを最小限に抑えることができます。特に個人情報や企業の機密情報の取り扱いには慎重さが求められる時代において、内製化はセキュリティ向上にも寄与します。 \n\n\n\nこれらのメリットを踏まえて、内製化の検討を行うことは、企業の成長と競争力強化に資する重要な戦略となります。 \n\n\n\nただ、実際にどのように取り組んでいけば良いか、迷っている企業も多いのではないでしょうか。そこで今回、600名のデザイナーや動画編集者などのクリエイターを育成した、株式会社Campus 代表取締役 梅谷 豊巨氏をお招きして、Webスキル内製化に関する貴重な知識とノウハウを共有するセミナーを開催いたします。 \n\n\n\n参加者は、内製化によるメリットを最大限に引き出すためのスキルや戦略を学び、自社の成長と競争力強化に繋げることができるでしょう。 \n\n\n\n今回のセミナーで得られる知識やスキルについて紹介！\n\n\n\n企業の成功・失敗ケースから学ぶ内製化の秘訣Webスキル内製化のリソースとプロセススムーズに内製化に導く具体的ステップと戦略を解説コスト削減と高品質を実現！ Webスキル内製化のコストと軽減策Webスキルのプロフェッショナルへ！ 質の高いスキル習得方法とは？\n\n\n\n今回のセミナーでは、参加者は実践的な知識と有益な情報を身につけることができます。自社の内製化プロセスを向上させ、競争力を強化するための貴重な学びを得ることができるでしょう。さらに個別相談会では、株式会社Campusが提供するWebスキル研修の詳細をご案内致します。 \n\n\n\n講師紹介\n\n\n\n\n\n\n梅谷 豊巨 氏株式会社Campus 代表取締役 \n\n\n\n事業内容WEB制作、クリエイタースクール、Webスキル研修、集客仕組み化支援 \n\n\n\n［実績］・クリエイタースクール受講者数600名以上・美人百花おすすめスクール掲載・日経電子版「私の道しるべ」掲載・トリンドル玲奈さんとテレビで対談・Newsweek掲載（チャレンジングイノベーター） \n\n\n\n［経歴］1990年　北海道岩見沢市生まれ2006年　中学生囲碁全国優勝2009年　高校生囲碁全国優勝2009年　大学生囲碁全国優勝2013年　立命館大学経営学部卒業2014年　ホットペッパーグルメ営業成績1位で表彰2019年　SESでエンジニア＆WEBデザインの副業2020年　フリーランスWEBデザイナー2020年　株式会社Campus設立2020年　WEB制作・サブスク型WEBクリエイタースクール開始2023年　スクール累計受講者数600名以上2023年　法人向けWEBスキル研修開始 \n\n\n\n［お取引企業様］・個人スクール会社員、フリーランス、経営者、主婦、公務員など・法人スキル研修人材会社、SES、制作会社、EC運営、コンサル、福祉系、研修会社など個人で未経験者を育成してきた経験をもとに今年4月から法人研修を開始・WEB制作飲食、美容サロン、病院、歯医者、保育園、アパレル、コンサル、士業など \n\n\n\n\n\n\n【お申し込みに際しての注意事項】\n\n\n\n●欠席の場合は事務局までご一報ください。●遅刻早退は不可です、時間に余裕を持ってご参加ください。●必ずカメラはオンでご参加頂ますようお願い致します。また、移動や仕事をしながらなどのながら参加や、カメラがオフの場合は参加をお断りさせていただきます。●時間通りにスタートするため、5分前にはご入室ください。●同業他社様の参加をお断りさせていただいております。 \n\n\n\nこれまでの開催実績\n\n\n\n上場企業経営者や著名人のセミナーの開催実績多数！\n\n\n\n\n\n\n\n\n\n詳細\n\n\n\n\n\n参加費\n\n\n\n\n\n\n\n\n\n主催者\n\n\n\n\n\n\n\n会場
URL:https://kyososhien.or.jp/event/20230824/
LOCATION:オンライン（ZOOM）での開催
CATEGORIES:オンラインセミナー
ATTACH;FMTTYPE=image/jpeg:https://kyososhien.or.jp/wp-content/uploads/2023/08/359537939_6427585440689027_4596772651943165852_n.jpg
ORGANIZER;CN="%E7%B5%8C%E5%96%B6%E8%80%85%E3%82%B3%E3%83%9F%E3%83%A5%E3%83%8B%E3%83%86%E3%82%A3%E3%80%8E%E3%81%A4%E3%82%80%E3%81%8E%E4%BC%9A%E3%80%8F":MAILTO:info@kyososhien.or.jp
END:VEVENT
BEGIN:VEVENT
DTSTART;TZID=Asia/Tokyo:20230823T140000
DTEND;TZID=Asia/Tokyo:20230823T153000
DTSTAMP:20260425T202058
CREATED:20230801T050806Z
LAST-MODIFIED:20230801T051633Z
UID:6927-1692799200-1692804600@kyososhien.or.jp
SUMMARY:在庫不要・高利益率・継続収益型の結婚相談所ビジネスの始め方
DESCRIPTION:多角化事業展開と理想的ビジネスモデルの4つの要素\n\n\n\n現代の経営者にとって、多角化した事業展開は避けて通れない道となっています。一つの事業に依存すると、その市場の変動や競争状況に左右されるリスクが増大します。 \n\n\n\nまた、経済環境の変化、新たな技術の進化、消費者のニーズの変動など、外部環境の変化によって事業の収益性が大きく影響を受ける可能性があります。このようなリスクを分散し、企業の成長を持続させるためには、事業を多角化することが求められます。 \n\n\n\nそのような中で、成功の要素となるのが「少資本」「在庫不要」「高収益」「継続課金」のビジネスモデルです。 \n\n\n\n理想的な事業モデルを持つ社会貢献型事業とその可能性\n\n\n\n数多く存在するビジネスモデルの中でも、特にこれらの条件を兼ね備えているのが「結婚相談所」のビジネスです。結婚相談所は、初期投資を最小限に抑え、在庫を必要とせず、サービス利用者からの継続的な利益を得ることが可能です。 \n\n\n\nさらに、ただ収益を上げるだけではなく、社会貢献にも直結しています。少子高齢化が進む現代日本において、結婚を促進し新たな家庭を創出することは、地域発展や人口増加に貢献します。このようなポジティブな影響は、企業の社会的責任（CSR）を果たす一環として、また企業としてのブランド力向上やPR活動にも繋がります。 \n\n\n\nまた、婚活市場は現在もなお拡大傾向にあり、独身者の中で婚活して結婚を希望する人が増え続けています。結婚相談所の需要は急激に高まっており、現在でも8万4千人以上の会員(株式会社IBJ調査)が婚活を行っていることから、競合を気にすることなく事業をスタートすることが可能です。 \n\n\n\nそこで今回、日本最大級の結婚相談所ネットワークである株式会社IBJの法人営業部部長、中屋敷恒氏をお迎えし、「在庫不要・高利益率・継続収益型の結婚相談所ビジネスの始め方」というテーマでセミナーを開催することになりました。 \n\n\n\n結婚相談所ビジネスを始めた方々の開業事例\n\n\n\n保険会社A社 推定年商1\,152万円(2020年度)「保険」と「婚活ビジネス」の相性は抜群！マーケティング会社A社 7\,757万円(2020年度)自社のマーケリテラシーを活かした集客ファッションA社 1\,144万円(2020年度)エステB社 推定年商910万円(2020年度)飲食店A社 推定年商2\,348万円(2020年度)小売業B社 推定年商15\,800万円(2020年度)子育てしながら開業 Aさん 推定年商2\,550万円(2020年度)子育てをしながらスキマ時間の活動会社員から開業 Aさん 7月推定売上37.8万円(2021年7月)\n\n\n\n今回のセミナーで得られる知識やスキルについて紹介！\n\n\n\n私たちIBJについてご紹介独身者・未婚者の現状から読み解く婚活マーケットの成長可能性「少資本」「在庫不要」「高収益」「継続課金」を兼ね備えた結婚相談所ビジネスモデルの魅力婚活ビジネスから派生するビジネスメリットと本業との相乗効果結婚相談所ビジネスの未来：市場トレンドに基づく戦略と成長の可能性\n\n\n\n講師紹介\n\n\n\n\n\n\n中屋敷 恒 氏株式会社IBJ　法人営業部　部長 \n\n\n\nIBJ直営店　結婚相談所部門・婚活アドバイザー（大宮・有楽町・銀座）・店長（新宿）・本部営業推進・西日本エリア：担当マネジャーを経て、現職 \n\n\n\n\n\n\n【お申し込みに際しての注意事項】\n\n\n\n●欠席の場合は事務局までご一報ください。●遅刻早退は不可です、時間に余裕を持ってご参加ください。●必ずカメラはオンでご参加頂ますようお願い致します。また、移動や仕事をしながらなどのながら参加や、カメラがオフの場合は参加をお断りさせていただきます。●時間通りにスタートするため、5分前にはご入室ください。●同業他社様の参加をお断りさせていただいております。 \n\n\n\nこれまでの開催実績\n\n\n\n上場企業経営者や著名人のセミナーの開催実績多数！\n\n\n\n\n\n\n\n\n\n詳細\n\n\n\n\n\n参加費\n\n\n\n\n\n\n\n\n\n主催者\n\n\n\n\n\n\n\n会場
URL:https://kyososhien.or.jp/event/20230823/
LOCATION:オンライン（ZOOM）での開催
CATEGORIES:オンラインセミナー
ATTACH;FMTTYPE=image/jpeg:https://kyososhien.or.jp/wp-content/uploads/2023/08/359670012_674870641211987_8136633219701573524_n.jpg
ORGANIZER;CN="%E7%B5%8C%E5%96%B6%E8%80%85%E3%82%B3%E3%83%9F%E3%83%A5%E3%83%8B%E3%83%86%E3%82%A3%E3%80%8E%E3%81%A4%E3%82%80%E3%81%8E%E4%BC%9A%E3%80%8F":MAILTO:info@kyososhien.or.jp
END:VEVENT
BEGIN:VEVENT
DTSTART;TZID=Asia/Tokyo:20230718T170000
DTEND;TZID=Asia/Tokyo:20230718T180000
DTSTAMP:20260425T202058
CREATED:20230619T030340Z
LAST-MODIFIED:20230619T065041Z
UID:6696-1689699600-1689703200@kyososhien.or.jp
SUMMARY:BtoB顧客開拓セミナー Twitterを活用した経営者リード獲得方法
DESCRIPTION:ビジネスの成果を最大化するTwitter活用法\n\n\n\nスモールビジネスのBtoB顧客開拓をテーマに、今回は「BtoB顧客開拓セミナー Twitterを活用した経営者リード獲得方法」を開催します！ \n\n\n\nあなたはTwitterを単なる社交の場や情報収集のツールと考えていませんか？でも、実はTwitterはビジネスに大きな可能性を秘めているのです。今回のセミナーでは、Twitterを活用することでビジネスの成果を最大化する方法についてご紹介します。 \n\n\n\n経営者やビジネスパーソンにとって、Twitterは顧客開拓やリード獲得に不可欠なツールとなっています。しかし、多くの人々はTwitterの真の価値や活用方法を知らないまま、その可能性を見逃しているのです。 \n\n\n\n本セミナーでは、Twitterをビジネスの成果を最大化するためのプラットフォームとして活用する方法について、実践的なノウハウを提供します。具体的な戦略や成功事例を通じて、参加者の皆様がビジネスにおけるTwitterの力を最大限に引き出せるようヒントを得る場とします。 \n\n\n\n【本講座の特徴】Twitterでコスト0円で経営者リード1000件を獲得した方法を公開！\n\n\n\n<参加対象者>こんな方はご参加ください！\n\n\n\nTwitterをビジネスに活かす方法がわからない経営者や経営幹部マーケティング担当者で、Twitterを戦略的に活用したいと考えている方々営業担当者で、Twitterを使った顧客開拓やリード獲得の方法に興味を持っている方々スタートアップ企業の経営者やマーケティングチームメンバーで、Twitterを効果的に活用したいと考えている方々小規模事業主や個人事業主で、Twitterを活用してビジネスの広報や集客をしたいと考えている方々\n\n\n\n受講するメリット\n\n\n\nTwitterのビジネス活用のポテンシャルを最大限に引き出せるようになる。経営者リード獲得に特化した具体的な戦略とノウハウを学ぶことができる。魅力的なプロフィール作成やコンテンツ戦略のテクニックを習得し、効果的な情報発信ができるようになる。ハッシュタグの使い方やリスト活用の方法を学び、ターゲットオーディエンスの拡大と経営者との関係構築が可能になる。ツールやアプリケーションの紹介により、効率的なリード獲得プロセスを構築できる。実際の成功事例を学びながら、自身のビジネスに適したアイデアや戦略を見つけることができる。質疑応答セッションにより、参加者個別の疑問や課題に対する具体的なアドバイスを受けることができる。\n\n\n\nセミナーのご案内\n\n\n\n開催概要\n\n\n\n開催日：2023年7月18日開催時間：17-18時参加費：無料開催形式：Zoom対象者：中小企業・スモールビジネス経営者 \n\n\n\nTwitterでお金を一切かけず1年で 経営者リード1000件以上獲得した方法\n\n\n\n講師：経営者マッチングプラットフォームBowers GM 星野一徳様・Twitterを使ってのリード獲得法 ・現在Twitterはビジネスシーンに熱いSNS ・フォロワー集めよりDM活用にカギあり ・効果的なTwitter運用ルールの作り方 \n\n\n\nスモールビジネスのためのBtoB顧客開拓法\n\n\n\n講師：一般社団法人企業共創支援機構 理事 林 周平・スモールビジネス特有のBtoB顧客開拓のポイント・半年間売上0の営業マンが月20万円のコンサルを受注できた理由 ・リード獲得・商談・成約までの流れを作る12の神器 \n\n\n\n講師紹介\n\n\n\n\n\n\n星野 一徳 様\n\n\n\n経営者マッチングプラットフォームBowers GM \n\n\n\n◎過去のTwitterセミナー参加者の実績・個人向け会員ビジネスをしている企業の公式ライン登録者数を1ヶ月で120名増(Twitter経由で)・大企業向け研修をしている企業の経営者が、大企業役員のアポイント獲得に成功千葉県習志野市出身→日大ラグビー部→日立→リクルート→芸人養成所入れず起業→株式会社SooN創業→副業マッチングプラットフォーム事業売却→株式会社ボイエンシーにてBowers事業開始。Bowersは現在招待制のみで2000社以上の決裁者様がご登録頂き、毎日100社以上のマッチングが行われています。その内8割はTwitter経由での集客をしている。 \n\n\n\n副業マッチングプラットフォームSooNは副業人材の会員数5000人まで成長経営者マッチングプラットフォームBowersは約2年で2000社の企業が登録Twitterフォロワーは現在7800人 \n\n\n\n\n\n\n林 周平\n\n\n\n一般社団法人企業共創支援機構 理事連続起業家/ビジネス投資家 \n\n\n\n◎実績●アパレルブランドをスモールM&A（事業買収）を⾏い、売上3.4倍・経常利益率を35%に改善。●サプリメント事業を展開⽴ち上げ。初年度年商1.5億円達成。●実績のない状態から2ヶ⽉の準備で経営者限定セミナーに1118名を集客。2500万円以上の契約受注。●顧問先の⼈材サービス会社は年商20億円から27億円に成⻑。先代の代表から事業承継に関わり、社内のマーケティング体制の構築、外部業者の選定・ディレクション、採⽤や幹部社員お育成・KPIの設定と定期MTGによるマネジメント体制の構築、など、経営のあらゆる課題に対して社⻑の良き参謀として伴奏している。●不動産⼤家コミュニティのプロモーションでは、受講料30万円のスクールに300名を集客。コミュニティないの年間物件流通総額は72億円を達成。 \n\n\n\n1988年神戸生まれ。23歳で独立し、ベストセラー作家の会員ビジネスを立ち上げ、セミナー集客・商品企画・バックオフィスを一気通貫でプロデュース。その後、マーケティング企画・ウェブデザイン会社を創業し、3年間で業績を伸ばし企業売却を行う。個人事務所を立ち上げ、事業投資・M&A・経営コンサルティングをはじめ、アパレルブランドを買収し売上3.4倍、経常利益を35％に改善する。シンガポールのベンチャーキャピタルのCOOに就任し4年間で20事業の立ち上げに関わる。現在は『人の可能性をデザインする』を理念に、事業投資型インキュベーションと経営塾を行なっている。 \n\n\n\n\n\n\n【お申し込みに際しての注意事項】\n\n\n\n●遅刻早退は不可となっております。開始5分後から入室ができなくなりますので、時間に余裕を持ってご参加ください。●必ずカメラはオンでご参加頂ますようお願い致します。また、移動や仕事をしながらなど、ながら参加はお断りさせていただきます。カメラがオフの場合やながら参加の場合は、次回へ振替をさせていただきます。●時間通りにスタートするため、5分前にはご入室ください。 \n\n\n\n\n\n\n\n\n\nこれまでの開催実績\n\n\n\n上場企業経営者や著名人のセミナーの開催実績多数！\n\n\n\n\n\n\n\n\n\n詳細\n\n\n\n\n\n参加費\n\n\n\n\n\n\n\n\n\n主催者\n\n\n\n\n\n\n\n会場
URL:https://kyososhien.or.jp/event/20230718/
LOCATION:オンライン（ZOOM）での開催
CATEGORIES:オンラインセミナー
ATTACH;FMTTYPE=image/png:https://kyososhien.or.jp/wp-content/uploads/2023/06/355426772_921784432257061_6984272836836255774_n.png
ORGANIZER;CN="%E7%B5%8C%E5%96%B6%E8%80%85%E3%82%B3%E3%83%9F%E3%83%A5%E3%83%8B%E3%83%86%E3%82%A3%E3%80%8E%E3%81%A4%E3%82%80%E3%81%8E%E4%BC%9A%E3%80%8F":MAILTO:info@kyososhien.or.jp
END:VEVENT
BEGIN:VEVENT
DTSTART;TZID=Asia/Tokyo:20230713T140000
DTEND;TZID=Asia/Tokyo:20230713T153000
DTSTAMP:20260425T202058
CREATED:20230619T030205Z
LAST-MODIFIED:20230621T045621Z
UID:6717-1689256800-1689262200@kyososhien.or.jp
SUMMARY:変革時代の成功方程式！組織強化と売上拡大の秘訣セミナー
DESCRIPTION:売上低迷を切り抜けるための組織づくりと戦略\n\n\n\n経済の動向から、企業倒産が3年ぶりに増加し、リーマンショック以来の急増が確定しました。急速な社会の変化により、従来のビジネスモデルが通用しづらくなっている中、物価高の高騰などの影響もあり、さらに人手不足も深刻な問題となっています。これらの課題への新たな解決策が求められています。 \n\n\n\nなかでも倒産の最多理由は「売上低迷」です。強固な組織を構築し、売上低迷を切り抜けるためには、どのようなアプローチが必要でしょうか？ \n\n\n\nそこで、株式会社識学様と一般社団プロセールス協会様との共同開催によるセミナーを開催します。この厳しい時代において、経営者にとって重要な「自動で高い成果を上げる組織づくり」と「売上低迷を打破する戦略」の2つの視点をお届けします。 \n\n\n\n株式会社識学様からは、組織が自動成長する仕組みについてお話いただきます。持続的な成長を実現するためには、組織の力を最大限に引き出すメカニズムが不可欠です。どのような仕組みを築くことで、組織が自動的に成長し高い成果を出し続けることができるのか、その秘訣をご紹介いただきます。 \n\n\n\nさらに、売り上げ低迷を克服するための解決策として、2つのアプローチをご提案します。 \n\n\n\n一般社団プロセールス協会からは、受注率51.1%を実現するインサイドセールス戦略についてご紹介します。営業未経験者でも確率論に基づいたアプローチで受注を獲得できるカラクリをお伝えします。 \n\n\n\nまた、コロナ後に急速に普及したオンラインセミナーですが、単に開催するだけではなく、集客と成果を最大化するためにはどうしたらいいのか？「企画」「集客」「収益化」の3つのポイントに焦点を当て、オンラインセミナーの成功に向けた具体的な方法をご紹介します。 \n\n\n\n経営者にとって重要な2つの視点\n\n\n\n社長がすべき仕事とは\n\n\n\n講師：株式会社識学　代表取締役社長　安藤 広大 氏 \n\n\n\n・上場企業全体の約10%導入する識学とは・4年で上場を果たした、組織の仕組みとマネジメント方法・相互に発生する誤解や錯覚・自動で高い成果を上げる組織づくり・従業員がこの会社にいたい！と思うために \n\n\n\n受注率51.1%を達成！中小・ベンチャーだからこそ活用できるインサイドセールス戦略\n\n\n\n講師：一般社団プロセールス協会　代表理事　小沼 勢矢 \n\n\n\n・受注率51.1%を実現したインサイドセールスの全体像・営業未経験者でも確率論で受注できるカラクリ・明日からできるセールストレーニング実践法・受注率を高める商談フローの設計方法・検討客を受注に引き上げるアフターフォロー3STEP \n\n\n\nオンラインセミナーの成功方程式集客と成果を最大化する3つのポイント\n\n\n\n講師：一般社団法人企業共創支援機構　理事　安井 麻代 \n\n\n\n・オンラインセミナー成功の3STEP・競合に差をつけるセミナー企画術・コストを抑えて質の高い参加者を獲得するには？・成功の鍵を握る効果的なオンラインセミナー集客戦略・成約率UP！オンラインセミナーのフォローアップ術 \n\n\n\n講師紹介\n\n\n\n\n\n\n安藤 広大 氏株式会社識学　代表取締役社長　 \n\n\n\n1979年、大阪府生まれ。2002年、早稲田大学卒業。同年、株式会社NTTドコモ入社後、2006年ジェイコムホールディングス株式会社（現ライク株式会社）入社。主要子会社のジェイコム株式会社（現ライクスタッフィング株式会社）で取締役営業副本部長等を歴任。2013年「識学」を知り独立。識学コンサルタントとして数々の企業の業績向上に貢献する。2015年、識学をより早く社会に広めるために、株式会社識学を設立。2019年、株式会社識学がマザーズ上場。 \n\n\n\n\n\n\n小沼 勢矢一般社団法人プロセールス協会 代表理事一般社団法人 企業共創支援機構 代表理事 \n\n\n\n40年間3万人以上の成功者の脳と向き合い確立した「実証的脳科学」を提供、組織開発や人材教育等8年で3\,500人以上のクライアントに指導してきた実績を持つ。コロナ禍で営業に課題を抱えるクライアントが増加したことをきっかけに成約率80％を達成するための脳科学を基にしたセールスメソッドを確立。価値あるサービスを世の中に上手く届けられずに困っている事業者様を支援したいという想いから、一般社団法人プロセールス協会を設立。セミナー・コンサルティング・会員サービスなどの提供を行う。 \n\n\n\n出版自分の脳に合った勉強法（フォレスト出版）シャイン博士が語るキャリア・カウンセリングの進め方（翻訳）シャイン博士が語る組織開発と人的資源管理の進め方（翻訳）契約の取れるオンラインセミナーの作り方30Tips(Kindle版) \n\n\n\n\n\n\n安井 麻代一般社団法人企業共創支援機構 理事 \n\n\n\n1980年愛知県生まれ。セミナー・イベントの企画から制作、運営までを行うセミナー・イベントプロデューサー。2000年に飲食業、デザイン業、コンサルティング業、セミナー業などを展開する企業グループに入社。最年少取締役に就任後、イベント企画、店舗開発などにも携わる。2007年独立、銀座にバーを出店。同時にセミナーや講演会、パーティなどのプロデュースを始め、現在までに自身がプロデュースしたセミナー・イベントは1500本を超、3万人以上を動員。セミナーやイベントを活用した顧客創造と売上拡大を得意とし、現在はセミナープロデュースにとどまらず、企業のマーケティング戦略立案なども行う。「価値が正しく評価される社会」の実現に向けて、日々活動中。 \n\n\n\n著書『すごいセミナー営業』　『初めて会う人でも大丈夫！誰とでもすぐに仲良くなる技術』『誰にでもできる交流会・勉強会の主催者になって稼ぐ法』『セミナー・イベント主催で成功する71の秘訣 \n\n\n\n\n\n\n【お申し込みに際しての注意事項】\n\n\n\n●欠席の場合は事務局までご一報ください。無断欠席が度重なる場合、今後のセミナー参加をお断りさせて頂く場合がございます。●遅刻早退は不可です、時間に余裕を持ってご参加ください。●必ずカメラはオンでご参加頂ますようお願い致します。また、移動や仕事をしながらなどのながら参加や、カメラがオフの場合は参加をお断りさせていただきます。●時間通りにスタートするため、5分前にはご入室ください。●同業他社様の参加をお断りさせていただいております。 \n\n\n\nこれまでの開催実績\n\n\n\n上場企業経営者や著名人のセミナーの開催実績多数！\n\n\n\n\n\n\n\n\n\n詳細\n\n\n\n\n\n参加費\n\n\n\n\n\n\n\n\n\n主催者\n\n\n\n\n\n\n\n会場
URL:https://kyososhien.or.jp/event/20230713/
LOCATION:オンライン（ZOOM）での開催
CATEGORIES:オンラインセミナー
ATTACH;FMTTYPE=image/png:https://kyososhien.or.jp/wp-content/uploads/2023/06/355391440_2305026976365443_9125984790371486816_n.png
ORGANIZER;CN="%E7%B5%8C%E5%96%B6%E8%80%85%E3%82%B3%E3%83%9F%E3%83%A5%E3%83%8B%E3%83%86%E3%82%A3%E3%80%8E%E3%81%A4%E3%82%80%E3%81%8E%E4%BC%9A%E3%80%8F":MAILTO:info@kyososhien.or.jp
END:VEVENT
BEGIN:VEVENT
DTSTART;TZID=Asia/Tokyo:20230608T150000
DTEND;TZID=Asia/Tokyo:20230608T160000
DTSTAMP:20260425T202058
CREATED:20230517T032733Z
LAST-MODIFIED:20230517T032850Z
UID:6597-1686236400-1686240000@kyososhien.or.jp
SUMMARY:もうWEB集客で悩まない！集客＆収益最大化を実現させる戦略設計セミナー
DESCRIPTION:WEB広告市場が急成長中！2022年は4兆円弱の広告費\n\n\n\n近年、WEB広告市場は驚異的な成長を遂げ、広告出稿数も増加しています。 \n\n\n\n電通によると、2022年の日本の総広告費は前年比104.4％増の7兆1\,021億円に達し、スマホの普及などによる社会のデジタル化により、WEB広告費は継続的に高い伸び率を維持しています。WEB広告費は日本の総広告費の43.5％を占め、前年比114.3％増の3兆912億円に達しました。 \n\n\n\n2007年、日本の総広告費が同じく7兆円に達したとき、WEB広告は日本の総広告費全体のわずか8.6％に過ぎませんでした。それから15年経った2022年、WEB広告は驚異的な成長を遂げ、2007年と比較するとこの15年で、なんと405.81％もの成長を遂げました。 \n\n\n\n今後も、WEB広告市場が拡大し続けることが予想されます。 \n\n\n\nWEB広告市場拡大に伴う悩みと課題\n\n\n\nこの動向によって、次のような悩みや課題を持つ中小企業が急速に増加しています。 \n\n\n\n✔リストを獲得しても、購入につながらないことが多い✔承認されなくて、広告を出せないことがある✔CPAが上昇していて、コストパフォーマンスが悪い✔広告代理店に依頼しても、効果が上がらない✔高価なウェブサイトを作成しても、集客ができていない✔広告コストが高くて、収益が見込めない✔コンテンツの差別化が難しく目立たず埋もれてしまう \n\n\n\n中小企業に求められる適切な集客戦略とは？\n\n\n\nこのような状況下において、中小企業が集客に成功し、収益を最大化していくためには、どうしたらいいのでしょうか？ \n\n\n\nまずは、広告コストが倍増しているという現状を認識し、適切な広告戦略を策定することが不可欠です。例えば、広告のターゲティング精度を向上させたり、顧客の好みや行動パターンに基づいた広告配信を行ったりすることが考えられます。また、広告媒体の多様性を活用した戦略も重要であり、SNSや動画広告など、ターゲット層に合わせた広告媒体の選定が必要です。 \n\n\n\nしかしながら、最も重要なことは、「自社のビジネスモデルや競合環境を正確に把握し、最適な戦略を策定する」ことです。現代では、オンラインとオフラインを融合させた戦略が不可欠であることを考慮しなければなりません。 \n\n\n\n\n\n\n集客と収益を最大化するためには、集客から成約までの導線設計に鍵があります。問題があるのは集客だけなのか、その後のステップにも問題があるのか、商品設計やターゲットと商品のマッチングに問題があるのかもしれません。 \n\n\n\n問題を発見し、改善するためには、集客の数値管理、集客手段の選択、成約率の改善など多岐にわたる施策が必要です。広告の最適化にだけこだわると、全体的に逆効果になる可能性もあります。 \n\n\n\n成果を出すには、自社の強みと顧客の要望に基づいた戦略を策定し、実行可能な戦術に落とし込むことが必要です。しかし、どこから始めたらよいか、何を検討すべきかについては、多くの中小企業が困惑しています。 \n\n\n\nそこで今回、中小企業向けの集客支援を100社以上行い、CPAコスト92%削減、売上300%UPなど、集客と収益の最大化に貢献してきた、合同会社TEAM GLOBEの稲垣達也氏を講師にお迎えして、「もうWEB集客で悩まない！集客＆収益最大化を実現させる戦略設計セミナー」セミナーを開催することになりました。 \n\n\n\nこのセミナーで、あなたのビジネスにとって最も効果的な戦略を見つけてください。 \n\n\n\n実際に改善された成功事例：稲垣氏がもたらした劇的な成果\n\n\n\nCPAコスト92%削減！ダイエット商材が大成功講師養成講座の成約率130%UPで劇的な改善結婚式場、コロナV字復活で前年比300%UP！売上利益も最高更新中ダイビングショップ、売上150%UPで勢いに乗る！パーソナルトレーニングジム、月間反響が200%UPに！創業100年中間製造業、コロナ前比300%売上改善農家、コロナで1000万円の廃棄を防ぎ、1070万円のクラウドファンディング達成！\n\n\n\n今回のセミナーで得られる知識やスキルについて紹介！\n\n\n\n中小企業経営者必見！2つの成功事例から学ぶ、集客と売上最大化の最新戦略 事例紹介①成約率130%UPとなったスクールの劇的な改善事例 事例紹介②地方製造業が卸売から脱却し、コロナ前比300%売上UPの改善事例 売上UPに必要な施策とは？購入につなげるネット集客からの導線づくり 成約率UPに必要な施策とは？アナログとデジタル手法の融合\n\n\n\n今回のセミナーでは、中小企業でも実現可能な集客と売上最大化のための最新戦略や実践的な施策をご紹介します。成功事例や失敗事例から学び、あなたの会社に合った戦略と戦術を診断する個別相談の時間も設けておりますので、ぜひご参加ください。 \n\n\n\n講師紹介\n\n\n\n\n\n\n稲垣達也 氏合同会社TEAM GLOBE 代表 \n\n\n\nGoogle、Facebookなどの　ビックデータやAIを活用し、広告費用の最適化を得意とする。幅広い業種で売上・集客・コスト減に貢献。 \n\n\n\n[実績]創業100年の中間製造業　コロナ前比300%以上に売上を改善結婚式場の集客　大手ポータルサイトと比較して、自社サイトで7倍集客実現農家をクラウドファンディング支援で1070万円達成　目標の21倍実現レジャー提供会社　店舗売上コロナ前比150%初めてネット通販に進出　4ヶ月で3000件以上の見込み客の獲得に成功不動産業者の顧客問い合わせ数を30倍 コンサル先のROASを6ヶ月で、225%⇨2490%に改善など、数々の業績に貢献する。\n\n\n\nその他、鉄道会社、地方TVキー局、大手企業、自治体などの取引あり。 \n\n\n\n[経歴]1984年　岐阜県瑞浪市の田舎生まれ2002年　携帯待ち受け画像サイトの運営　お小遣い稼ぎ10万円/月程度（高校2年生）2007年　横浜国立大学経済学部卒業2007年　阪和興業株式会社入社　名古屋支社配属　鉄鋼製品の輸出入営業など2015年　退職 2016年　ハウスドゥ静岡本通店　店長2017年　2～4月買取ランキング　ハウスドゥ内3か月連続1位　FC内全国大会で講演、個人粗利ランキング　ハウスドゥ全国1位2018年　退職2019年　合同会社TEAM GLOBE 創業　WEB事業開始2021年　空きテナント活用商店街活性化サイネージ広告『Pocket』運用開始 \n\n\n\n[お取引企業様]●インフラ系鉄道、テレビ、エネルギー、不動産会社、自動車部品、静岡市、スポーツ施設　など●専門職系税務署　士業（司法書士、税理士、弁護士、社労士・・）、M&Aコンサル、歯科医、県介護福祉士会、マンションデベロッパー、システム開発、整体院、美容室　など●飲食、生活系など飲食店、農家、ダイエット食品、レジャー会社、食品製造、武具、ネイル、片付け、太陽光発電、リフォーム、エステ、ヨガ、物販、トレーナー、英会話講師育成　など \n\n\n\n\n\n\n【お申し込みに際しての注意事項】\n\n\n\n●欠席の場合は事務局までご一報ください。●遅刻早退は不可です、時間に余裕を持ってご参加ください。●必ずカメラはオンでご参加頂ますようお願い致します。また、移動や仕事をしながらなどのながら参加や、カメラがオフの場合は参加をお断りさせていただきます。●時間通りにスタートするため、5分前にはご入室ください。●同業他社様の参加をお断りさせていただいております。 \n\n\n\nこれまでの開催実績\n\n\n\n上場企業経営者や著名人のセミナーの開催実績多数！\n\n\n\n\n\n\n\n\n\n詳細\n\n\n\n\n\n参加費\n\n\n\n\n\n\n\n\n\n主催者\n\n\n\n\n\n\n\n会場
URL:https://kyososhien.or.jp/event/20230608/
LOCATION:オンライン（ZOOM）での開催
CATEGORIES:オンラインセミナー
ATTACH;FMTTYPE=image/png:https://kyososhien.or.jp/wp-content/uploads/2023/05/346155892_206426405515994_1405402019365146608_n.png
ORGANIZER;CN="%E7%B5%8C%E5%96%B6%E8%80%85%E3%82%B3%E3%83%9F%E3%83%A5%E3%83%8B%E3%83%86%E3%82%A3%E3%80%8E%E3%81%A4%E3%82%80%E3%81%8E%E4%BC%9A%E3%80%8F":MAILTO:info@kyososhien.or.jp
END:VEVENT
BEGIN:VEVENT
DTSTART;TZID=Asia/Tokyo:20230511T130000
DTEND;TZID=Asia/Tokyo:20230511T150000
DTSTAMP:20260425T202058
CREATED:20230424T024434Z
LAST-MODIFIED:20230430T031946Z
UID:6501-1683810000-1683817200@kyososhien.or.jp
SUMMARY:MDRT、COT、TOTを多数輩出！未開拓の保険市場で勝ち抜く、最新保険マーケット攻略法セミナー
DESCRIPTION:魅力的なビジネスチャンスが広がる、日本のシニアマーケット\n\n\n\n日本における少子高齢化が進む中、シニアマーケットがますます拡大しています。高齢者の人口が増えるにつれ、彼らの購買力や需要が高まり、ビジネスにとって魅力的な市場となっています。保険営業パーソンにとっても、この市場は見逃せません。 \n\n\n\nシニアマーケットと聞くと、あなたはどんなことを想像するでしょうか？ \n\n\n\n✔需要やニーズを把握するのが難しいのでは？✔医療保険でAPがせいぜい20万円ぐらいと小さく、これで収入を増やすイメージはない✔もっと高額を狙える富裕層マーケットにいったほうがいいのでは？✔結婚や出産などのライフイベントがないため、紹介のタイミングがない✔変額保険でキャッシュバリューの良さを語るしかない \n\n\n\nこれらは大きな間違いです。 \n\n\n\nまず、日本は高齢者人口が急増しています。2023年には50歳以上の人口が、「5割」になると予測されており、高齢社会が進行しています。 \n\n\n\n高齢社会が進むと、次に何が起こるのか。介護問題です。 \n\n\n\n新聞やテレビでも、介護離職や老老介護のニュースが後をたちません。さらに認知症介護になってしまうと、徘徊、攻撃、暴力、異食行為などの異常行動や、幻覚・妄想、不安、抑うつ、不眠、興奮などの精神症状などで、家族の負担は倍増します。 \n\n\n\n保険営業パーソンにとっての成長市場\n\n\n\n今までもシニア向けの保険は発売されています。あなたもTV CMなどで目にしたことがあるかもしれません。実は、シニアへの提案の切り口を変えただけで、大きなチャンスにつながるのです。 \n\n\n\n平均的に、認知症介護アプローチをすると手数料は、10倍以上の高額契約となります。なぜならば高齢者は多くの場合、比較的高い経済力を持っているため、高額な必要保障額の支払いも可能なのです。 \n\n\n\n保険料がAP100～200万円と高額になっても彼らのニーズに合うのです。あるデータによると、50歳以上の50％以上が1千万円以上の預貯金を保有しており、その層がこの保険の対象者となります。つまり人口の50%がマーケットになるということです。 \n\n\n\n保険業界で高額手数料を手にできる、相続マーケットは全体の2%にしか過ぎず、その小さなパイを取り合っているような状況です。しかし、このシニアマーケットは今後も拡大していき、向こう20年間、安定したマーケットとなる見込みです。 \n\n\n\nそうはいっても、 \n\n\n\n●シニアの方への電話アプローチトークは？●シニア世代の紹介の取り方をどうしたらいいの？●初対面のシニアとどう向き合ったらいいのか？●そもそもシニアってどう見つけるの？ \n\n\n\nという疑問や不安をお持ちかもしれません。 \n\n\n\nそこで、上記の疑問や不安をすべてマニュアル化し、「未開拓の保険市場で勝ち抜く、最新保険マーケット攻略法」セミナーを開催することになりました。 \n\n\n\n講師は、自身も現ソニー生命でライフプランナーとして数々の実績を残し、現在は「認知症対策マネーアプローチ講座」にて1000名の受講生を指導、7割が受講前より売上UP、MDRT、COT、TOTを多数輩出している　株式会社トップマネージャー・ラボ　遠藤和夫 氏です。 \n\n\n\n参加することで得られるベネフィット\n\n\n\nこのセミナーをご受講いただくことで、 \n\n\n\n向こう20年間、安定したマーケットを手に入れることができる厚生労働省のデータでもある通り、高齢社会のツケとして、認知症患者は今後ますます激増する。認知症対策マネーのスペシャリストとしてビジネス展開できるほどのマーケットサイズである。 \n\n\n\nあなたの身の周りにいる方々もあなたの話しを聞きたがる「保険の話しは聞きたくないが、認知症介護の話しなら聞いても良い」というお客様はあなたの周りにはたくさんいるはずである。 \n\n\n\n具体的な社会貢献の形として、プライドのある職業意識を高めることができるお客様の安堵感を感じることができ、保険による具体的社会貢献を通して「この仕事をしていて良かった」と日々感じられる。 \n\n\n\n安定した売上を見込める市場規模今後ますます激増する認知症患者数からみても分かる通り、マーケットは拡大の一途である。それに伴い、売上は拡大傾向。あなたの報酬も右肩上がりになるのは必至である。これまで行きにくかったベースマーケットの知人、友人に認知症介護の話しなら伝えに行ける 「死んだら」の話しではない。生きていく上で、「介護で家族に迷惑をかけない生き方」の話しなので、躊躇なくアポ取りできる。 \n\n\n\nといったベネフィットを手にすることができます。 \n\n\n\n参加者は、保険営業パーソンになったばかりの人から、長年活動している人まで、幅広く対象としています。このセミナーを通じて、シニア世代を救い、保険営業パーソンとして誇りを持って、仕事ができる知識とスキルを身につけ、さらには業績も上げていきましょう。 \n\n\n\n社)企業共創支援機構の特別枠として、今回に限り参加費は無料でご参加いただけます。このチャンスをお見逃しなく！ \n\n\n\n講師紹介\n\n\n\n\n\n\n遠藤 和夫 氏株式会社トップマネージャー・ラボ　代表取締役 \n\n\n\n１９４９年　東京生まれ１９８６年　ソニープルデンシャル生命保険株式会社（現ソニー生命保険）入社独自のスカウト手法により在籍中に営業所長部門で社長賞３回、チャンピオン１回、支社長部門で社長賞５回獲得２０００年　ソニー生命保険株式会社 執行役員 就任２００２年　ライフプラザパートナーズ　代表取締役役副社長　就任２００９年　株式会社トップマネージャー・ラボ 設立　代表取締役　就任 \n\n\n\n【実績】● ソニー生命　営業所長（ゼロ発）・期中４年間で２８名採用、退職２名・エグゼクティブＬＰ１２名輩出・支社長７名輩出・ライフプランナーチャンピオン３名通算８年輩出・営業所長評価指標１位２回、２位１回獲得・営業所長部門チャンピオン１回獲得 \n\n\n\n●ソニー生命　支社長（ゼロ発）・期中９年間で在籍ＬＰ２４８名・支社長評価指標１位３回、２位２回獲得 \n\n\n\n\n\n\n【お申し込みに際しての注意事項】\n\n\n\n●遅刻早退は不可です、時間に余裕を持ってご参加ください。●必ずカメラはオンでご参加頂ますようお願い致します。また、移動や仕事をしながらなどのながら参加や、カメラがオフの場合は参加をお断りさせていただきます。●時間通りにスタートするため、5分前にはご入室ください。●同業他社様の参加をお断りさせていただいております。 \n\n\n\nこれまでの開催実績\n\n\n\n上場企業経営者や著名人のセミナーの開催実績多数！\n\n\n\n\n\n\n\n\n\n詳細\n\n\n\n\n\n参加費\n\n\n\n\n\n\n\n\n\n主催者\n\n\n\n\n\n\n\n会場
URL:https://kyososhien.or.jp/event/20230511/
LOCATION:オンライン（ZOOM）での開催
CATEGORIES:オンラインセミナー
ATTACH;FMTTYPE=image/png:https://kyososhien.or.jp/wp-content/uploads/2023/04/342744855_756706922530545_6212885480155567348_n.png
ORGANIZER;CN="%E7%B5%8C%E5%96%B6%E8%80%85%E3%82%B3%E3%83%9F%E3%83%A5%E3%83%8B%E3%83%86%E3%82%A3%E3%80%8E%E3%81%A4%E3%82%80%E3%81%8E%E4%BC%9A%E3%80%8F":MAILTO:info@kyososhien.or.jp
END:VEVENT
BEGIN:VEVENT
DTSTART;TZID=Asia/Tokyo:20230426T193000
DTEND;TZID=Asia/Tokyo:20230426T223000
DTSTAMP:20260425T202058
CREATED:20230411T025553Z
LAST-MODIFIED:20230411T041019Z
UID:6466-1682537400-1682548200@kyososhien.or.jp
SUMMARY:東大卒、ゴールドマン・サックス出身 Amazon不動産部門1位の著者が教える、知識ゼロからでも失敗しない不動産投資DX入門講座［不動産投資アカデミー第3期 体験会＆説明会］
DESCRIPTION:世界的インフレ、日本も40年ぶりの上昇率\n\n\n\n世界的にインフレが進行しており、日本でも物価上昇が止まりません。長期に渡ってデフレ環境が続いた日本ですが、第二次オイルショック以来40年ぶりの上昇率となっており、そんな中、次の点から不動産投資が注目されています。 \n\n\n\nインフレ環境における不動産投資のメリット\n\n\n\n・不動産価値の上昇により、資産価値の維持・増加につながる・インフレによって賃料が上昇する可能性・貨幣価値の低下により、借入金の実質的な価値減少・物理的な資産であるため、インフレや経済の不安定さからの保護に役立つ・現金化をする場合、より高い価格で不動産を売却できる可能性・建物の価値が上昇することで、土地の価値も上昇する可能性・不動産投資は、長期的な投資であり、短期的な物価変動の影響を受けにくい・不動産の需要が高まりで、将来的に賃貸需要の増加、資産の価値の上昇が見込まれる \n\n\n\n今こそ不動産投資のチャンス！\n\n\n\nつまりインフレ進行が進む今こそ、不動産投資のチャンスなのです。 \n\n\n\nただし、不動産投資にはリスクもつきものなため、正しい知識とスキルの習得が必要です。また、不動産投資を成功させるためには、『物件選定』と『融資戦略』は非常に重要な要素となり、これらを正しく行うことは容易ではありません。 \n\n\n\nそこで今回、ゴールドマン・サックスグループで不動産ファンドの運用に従事し、約600億円の不動産取得業務に携わり、Amazon不動産投資部門1位、自身も年間賃料収入1億円を超えるメガ大家として活躍中の小原 正徳 氏が主宰する「不動産投資DX入門講座」の体験セミナー＆説明会を開催します。 \n\n\n\nこのセミナーでは、不動産投資で重要な2つのポイントをお伝えします！\n\n\n\n①物件選定\n\n\n\n立地条件、物件状態、賃貸需要など、不動産投資で成功するためには、物件選定にかかっていると言っても過言ではありません。このセミナーではどんな物件を選べば成功するのか？そのポイントをお伝えさせていただきます。 \n\n\n\nまた、勘や経験に頼らない、一瞬で不動産投資のプロと同じ判断ができる、DXツールのご紹介もさせていただきます。 \n\n\n\n②融資戦略\n\n\n\n不動産投資をする際には、事業融資を受けることが一般的ですが、近年融資は厳しさを増しています。せっかく優良な物件を見つけても自己資金が足りず、融資ジプシー化する事例も多々見受けられます。 \n\n\n\n自己資金100万円から不動産投資を始め、年間賃料収入1億円を超えるメガ大家である小原氏より、最新の融資事情や融資付けの極意をお伝え致します。 \n\n\n\nセミナーでお伝えする内容\n\n\n\n✔不動産投資業界は知識がないと食い物にされる！絶対に失敗しないために押さえるべき5つのポイント\n✔プロ投資家の「物件を選ぶ目」が一瞬で手に入るDXツールとは？\n✔プロが語る、今すぐ始めるべき理由とは（日本の不動産投資の今、海外との比較）\n✔知識ゼロから資産1億円越えまでのロードマップを参加者全員にプレゼント\n✔受講者がどんどん結果を出しているアカデミーの一部を無料で体験！\n\n\n\n参加者の声\n\n\n\n●ほぼ我流で不動産賃貸業スタートするも『3億円の壁』に突き当たり、受講。サラリーマン卒業の目標達成間近！\n\n●不動産投資の原理原則、具体的な購入までの方法、勝率の上げ方など1から10まで体系的に学ぶことができた！\n\n●会社経営をしていて何か本業以外に柱を作りたく不動産賃貸業に参入。セミナーに参加して、融資・物件の見極め方・情報の取り方等大事なことを教えてもらえた！ \n\n●金融機関への融資面談に向けて、必要な準備や心構えも直接小原さんからアドバイス頂いた結果、初めての不動産投資にも拘わらず、金融機関様から融資事前審査を承認！\n\n●実際のプレイヤーがどのように物件を認識し、判断しているかを垣間見ることができ、書籍の硬直的な知識の世界から一気に解像度を上げることができた！\n\n\n\n参加者は、不動産投資に興味がある初心者から、すでに不動産投資をしている人まで、幅広く対象としています。このセミナーを通じて、不動産投資で成功するために必要な知識とスキルを身につけ、より確実な投資を行いましょう。 \n\n\n\n社)企業共創支援機構の特別枠として、今回に限り参加費は無料でご参加いただけます。このチャンスをお見逃しなく！ \n\n\n\n講師紹介\n\n\n\n\n\n\n総投資額34億円の不動産投資家小原正徳 氏 \n\n\n\n東京大学卒業。不動産業界で賃貸管理業務や不動産鑑定業務などを経験した後に、新日本監査法人を傘下に収めるEYグループで外資系不動産ファンドに対する監査業務に従事。不動産の客観的な収支分析の技術を認められ、ゴールドマン・サックスグループで不動産ファンドの運用に従事し、約600億円の不動産取得業務を実行する。 \n\n\n\n不動産投資の世界では当たり前のノウハウが、個人投資家には全く普及していない実態を目の当たりにし、自立した個人投資家育成を手掛けたいと決意。2016年、株式会社不動産科学研究所（IRES）を創業。 \n\n\n\n現在は、不動産投資家向けにアドバイザリーサービスを提供。経済的に自立したいと考えている会社員や収益の柱を作りたいと考えている事業家向けに、不動産投資を事業として展開する方法を伝えている。法人向けの物件取得業務などの不動産コンサルティングサービスでは100億円を超える物件の売買も手がけている。 \n\n\n\n2022年に『物件購入のための不動産投資「収支計算」バイブル』を出版。Amazon不動産投資カテゴリ売れ筋ランキング1位を獲得。YouTubeチャンネル登録者数2万人。 \n\n\n\n自身も会社員時代に不動産投資を開始。当初３ヶ月で総投資額2億円に到達するも、拡大戦略に失敗し、以後3年間、物件の購入ができなかった。その後戦略を見直し、2018年から2019年にかけての1年間で8億円の物件を購入。総資産10億円、年間賃料収入1億円を超えるメガ大家になり、さらに現在も規模拡大中。 \n\n\n\n【お申し込みに際しての注意事項】\n\n\n\n●遅刻早退は不可となっております。開始5分後から入室ができなくなりますので、時間に余裕を持ってご参加ください。●必ずカメラはオンでご参加頂ますようお願い致します。また、移動や仕事をしながらなど、ながら参加はお断りさせていただきます。カメラがオフの場合やながら参加の場合は、次回へ振替をさせていただきます。●時間通りにスタートするため、5分前にはご入室ください。 \n\n\n\n\n\n\n\n\n\n\nこれまでの開催実績\n\n\n\n上場企業経営者や著名人のセミナーの開催実績多数！\n\n\n\n\n\n\n\n\n\n詳細\n\n\n\n\n\n参加費\n\n\n\n\n\n\n\n\n\n主催者\n\n\n\n\n\n\n\n会場
URL:https://kyososhien.or.jp/event/20230426_2/
LOCATION:オンライン（ZOOM）での開催
CATEGORIES:オンラインセミナー
ATTACH;FMTTYPE=image/jpeg:https://kyososhien.or.jp/wp-content/uploads/2023/04/339948336_228526006499456_984695248032169319_n.jpg
END:VEVENT
END:VCALENDAR