BEGIN:VCALENDAR
VERSION:2.0
PRODID:-//一般社団法人企業共創支援機構 - ECPv5.14.0.3//NONSGML v1.0//EN
CALSCALE:GREGORIAN
METHOD:PUBLISH
X-WR-CALNAME:一般社団法人企業共創支援機構
X-ORIGINAL-URL:https://kyososhien.or.jp
X-WR-CALDESC:一般社団法人企業共創支援機構 のイベント
REFRESH-INTERVAL;VALUE=DURATION:PT1H
X-Robots-Tag:noindex
X-PUBLISHED-TTL:PT1H
BEGIN:VTIMEZONE
TZID:Asia/Tokyo
BEGIN:STANDARD
TZOFFSETFROM:+0900
TZOFFSETTO:+0900
TZNAME:JST
DTSTART:20230101T000000
END:STANDARD
END:VTIMEZONE
BEGIN:VEVENT
DTSTART;TZID=Asia/Tokyo:20230823T140000
DTEND;TZID=Asia/Tokyo:20230823T153000
DTSTAMP:20260425T004447
CREATED:20230801T050806Z
LAST-MODIFIED:20230801T051633Z
UID:6927-1692799200-1692804600@kyososhien.or.jp
SUMMARY:在庫不要・高利益率・継続収益型の結婚相談所ビジネスの始め方
DESCRIPTION:多角化事業展開と理想的ビジネスモデルの4つの要素\n\n\n\n現代の経営者にとって、多角化した事業展開は避けて通れない道となっています。一つの事業に依存すると、その市場の変動や競争状況に左右されるリスクが増大します。 \n\n\n\nまた、経済環境の変化、新たな技術の進化、消費者のニーズの変動など、外部環境の変化によって事業の収益性が大きく影響を受ける可能性があります。このようなリスクを分散し、企業の成長を持続させるためには、事業を多角化することが求められます。 \n\n\n\nそのような中で、成功の要素となるのが「少資本」「在庫不要」「高収益」「継続課金」のビジネスモデルです。 \n\n\n\n理想的な事業モデルを持つ社会貢献型事業とその可能性\n\n\n\n数多く存在するビジネスモデルの中でも、特にこれらの条件を兼ね備えているのが「結婚相談所」のビジネスです。結婚相談所は、初期投資を最小限に抑え、在庫を必要とせず、サービス利用者からの継続的な利益を得ることが可能です。 \n\n\n\nさらに、ただ収益を上げるだけではなく、社会貢献にも直結しています。少子高齢化が進む現代日本において、結婚を促進し新たな家庭を創出することは、地域発展や人口増加に貢献します。このようなポジティブな影響は、企業の社会的責任（CSR）を果たす一環として、また企業としてのブランド力向上やPR活動にも繋がります。 \n\n\n\nまた、婚活市場は現在もなお拡大傾向にあり、独身者の中で婚活して結婚を希望する人が増え続けています。結婚相談所の需要は急激に高まっており、現在でも8万4千人以上の会員(株式会社IBJ調査)が婚活を行っていることから、競合を気にすることなく事業をスタートすることが可能です。 \n\n\n\nそこで今回、日本最大級の結婚相談所ネットワークである株式会社IBJの法人営業部部長、中屋敷恒氏をお迎えし、「在庫不要・高利益率・継続収益型の結婚相談所ビジネスの始め方」というテーマでセミナーを開催することになりました。 \n\n\n\n結婚相談所ビジネスを始めた方々の開業事例\n\n\n\n保険会社A社 推定年商1\,152万円(2020年度)「保険」と「婚活ビジネス」の相性は抜群！マーケティング会社A社 7\,757万円(2020年度)自社のマーケリテラシーを活かした集客ファッションA社 1\,144万円(2020年度)エステB社 推定年商910万円(2020年度)飲食店A社 推定年商2\,348万円(2020年度)小売業B社 推定年商15\,800万円(2020年度)子育てしながら開業 Aさん 推定年商2\,550万円(2020年度)子育てをしながらスキマ時間の活動会社員から開業 Aさん 7月推定売上37.8万円(2021年7月)\n\n\n\n今回のセミナーで得られる知識やスキルについて紹介！\n\n\n\n私たちIBJについてご紹介独身者・未婚者の現状から読み解く婚活マーケットの成長可能性「少資本」「在庫不要」「高収益」「継続課金」を兼ね備えた結婚相談所ビジネスモデルの魅力婚活ビジネスから派生するビジネスメリットと本業との相乗効果結婚相談所ビジネスの未来：市場トレンドに基づく戦略と成長の可能性\n\n\n\n講師紹介\n\n\n\n\n\n\n中屋敷 恒 氏株式会社IBJ　法人営業部　部長 \n\n\n\nIBJ直営店　結婚相談所部門・婚活アドバイザー（大宮・有楽町・銀座）・店長（新宿）・本部営業推進・西日本エリア：担当マネジャーを経て、現職 \n\n\n\n\n\n\n【お申し込みに際しての注意事項】\n\n\n\n●欠席の場合は事務局までご一報ください。●遅刻早退は不可です、時間に余裕を持ってご参加ください。●必ずカメラはオンでご参加頂ますようお願い致します。また、移動や仕事をしながらなどのながら参加や、カメラがオフの場合は参加をお断りさせていただきます。●時間通りにスタートするため、5分前にはご入室ください。●同業他社様の参加をお断りさせていただいております。 \n\n\n\nこれまでの開催実績\n\n\n\n上場企業経営者や著名人のセミナーの開催実績多数！\n\n\n\n\n\n\n\n\n\n詳細\n\n\n\n\n\n参加費\n\n\n\n\n\n\n\n\n\n主催者\n\n\n\n\n\n\n\n会場
URL:https://kyososhien.or.jp/event/20230823/
LOCATION:オンライン（ZOOM）での開催
CATEGORIES:オンラインセミナー
ATTACH;FMTTYPE=image/jpeg:https://kyososhien.or.jp/wp-content/uploads/2023/08/359670012_674870641211987_8136633219701573524_n.jpg
ORGANIZER;CN="%E7%B5%8C%E5%96%B6%E8%80%85%E3%82%B3%E3%83%9F%E3%83%A5%E3%83%8B%E3%83%86%E3%82%A3%E3%80%8E%E3%81%A4%E3%82%80%E3%81%8E%E4%BC%9A%E3%80%8F":MAILTO:info@kyososhien.or.jp
END:VEVENT
BEGIN:VEVENT
DTSTART;TZID=Asia/Tokyo:20230824T150000
DTEND;TZID=Asia/Tokyo:20230824T160000
DTSTAMP:20260425T004447
CREATED:20230801T044321Z
LAST-MODIFIED:20230801T050836Z
UID:6908-1692889200-1692892800@kyososhien.or.jp
SUMMARY:効率化とコスト削減を実現する Webスキル人材育成術
DESCRIPTION:デジタルマーケティング時代に欠かせないWebスキルとその重要性\n\n\n\n企業がWebサイトを持つことは今や当たり前となり、一部の企業ではTwitter、Instagram、YouTubeなどのSNSを積極的に活用しています。Webサイトだけでなく、SNSなど様々なチャネルで情報を得てユーザーが購入を決めたり、就活生の6割がSNSで企業の情報収集をする時代において、かつての「うちはアナログ企業だから」といった言い訳は通用しなくなりました。 \n\n\n\nそのため、デザインやコーディング、動画制作、SNSの運用など、Webスキルが必要不可欠となりました。しかしながら、社内に適切な人材が不足している企業も多いのではないでしょうか。そのような企業では、これらの作業を外注していることが一般的です。 \n\n\n\n外注には外部の知見やスキルを活用できるメリットがある一方で、対応の遅れや認識のすり合わせが難しいといった課題も存在します。特に、対象分野に知識がない場合は適正価格を見極めることが難しく、ディレクションも困難になります。 \n\n\n\nさらに、制作フローを理解していないことにより、要件定義が曖昧になったり、納期間近での要件変更が発生し、無理な要求によって追加コストが発生するリスクもあります。また、思った通りの成果物が得られない可能性も考えられます。 \n\n\n\n内製化が企業の成長と競争力強化に資する重要な戦略\n\n\n\nこのような課題に直面している企業様にとって、内製化は有益な解決策です。内製化による主なメリットは次の通りです。 \n\n\n\nメリット① スキルの育成と柔軟な対応内製化により、社内のメンバーに必要なスキルを育成することができます。デザインやコーディング、動画制作、SNSの運用などの知識を身につけた社員は、即座に対応できるため、スピーディな業務処理が可能となります。また、変化するマーケットに対応しやすく、柔軟な対応ができる点も魅力です。 \n\n\n\nメリット② コスト削減とクオリティ管理外部に依頼する場合は、その都度コストが発生しますが、内製化によって外注費用を削減できます。さらに、社内のチームが一貫したクオリティを保ちながら制作に取り組むことで、ブランドイメージの統一や効果的なマーケティングが可能になります。 \n\n\n\nメリット③ 情報共有と効率化社内で作業を進めるため、情報共有や意思疎通がスムーズに行われます。これにより、誤解やミスのリスクを低減し、プロジェクトの進行を効率化します。また、外部委託先との調整時間を省くことで、制作期間が短縮されることも期待できます。 \n\n\n\nメリット④ セキュリティと機密性の確保重要な情報を社内で管理することで、情報漏洩のリスクを最小限に抑えることができます。特に個人情報や企業の機密情報の取り扱いには慎重さが求められる時代において、内製化はセキュリティ向上にも寄与します。 \n\n\n\nこれらのメリットを踏まえて、内製化の検討を行うことは、企業の成長と競争力強化に資する重要な戦略となります。 \n\n\n\nただ、実際にどのように取り組んでいけば良いか、迷っている企業も多いのではないでしょうか。そこで今回、600名のデザイナーや動画編集者などのクリエイターを育成した、株式会社Campus 代表取締役 梅谷 豊巨氏をお招きして、Webスキル内製化に関する貴重な知識とノウハウを共有するセミナーを開催いたします。 \n\n\n\n参加者は、内製化によるメリットを最大限に引き出すためのスキルや戦略を学び、自社の成長と競争力強化に繋げることができるでしょう。 \n\n\n\n今回のセミナーで得られる知識やスキルについて紹介！\n\n\n\n企業の成功・失敗ケースから学ぶ内製化の秘訣Webスキル内製化のリソースとプロセススムーズに内製化に導く具体的ステップと戦略を解説コスト削減と高品質を実現！ Webスキル内製化のコストと軽減策Webスキルのプロフェッショナルへ！ 質の高いスキル習得方法とは？\n\n\n\n今回のセミナーでは、参加者は実践的な知識と有益な情報を身につけることができます。自社の内製化プロセスを向上させ、競争力を強化するための貴重な学びを得ることができるでしょう。さらに個別相談会では、株式会社Campusが提供するWebスキル研修の詳細をご案内致します。 \n\n\n\n講師紹介\n\n\n\n\n\n\n梅谷 豊巨 氏株式会社Campus 代表取締役 \n\n\n\n事業内容WEB制作、クリエイタースクール、Webスキル研修、集客仕組み化支援 \n\n\n\n［実績］・クリエイタースクール受講者数600名以上・美人百花おすすめスクール掲載・日経電子版「私の道しるべ」掲載・トリンドル玲奈さんとテレビで対談・Newsweek掲載（チャレンジングイノベーター） \n\n\n\n［経歴］1990年　北海道岩見沢市生まれ2006年　中学生囲碁全国優勝2009年　高校生囲碁全国優勝2009年　大学生囲碁全国優勝2013年　立命館大学経営学部卒業2014年　ホットペッパーグルメ営業成績1位で表彰2019年　SESでエンジニア＆WEBデザインの副業2020年　フリーランスWEBデザイナー2020年　株式会社Campus設立2020年　WEB制作・サブスク型WEBクリエイタースクール開始2023年　スクール累計受講者数600名以上2023年　法人向けWEBスキル研修開始 \n\n\n\n［お取引企業様］・個人スクール会社員、フリーランス、経営者、主婦、公務員など・法人スキル研修人材会社、SES、制作会社、EC運営、コンサル、福祉系、研修会社など個人で未経験者を育成してきた経験をもとに今年4月から法人研修を開始・WEB制作飲食、美容サロン、病院、歯医者、保育園、アパレル、コンサル、士業など \n\n\n\n\n\n\n【お申し込みに際しての注意事項】\n\n\n\n●欠席の場合は事務局までご一報ください。●遅刻早退は不可です、時間に余裕を持ってご参加ください。●必ずカメラはオンでご参加頂ますようお願い致します。また、移動や仕事をしながらなどのながら参加や、カメラがオフの場合は参加をお断りさせていただきます。●時間通りにスタートするため、5分前にはご入室ください。●同業他社様の参加をお断りさせていただいております。 \n\n\n\nこれまでの開催実績\n\n\n\n上場企業経営者や著名人のセミナーの開催実績多数！\n\n\n\n\n\n\n\n\n\n詳細\n\n\n\n\n\n参加費\n\n\n\n\n\n\n\n\n\n主催者\n\n\n\n\n\n\n\n会場
URL:https://kyososhien.or.jp/event/20230824/
LOCATION:オンライン（ZOOM）での開催
CATEGORIES:オンラインセミナー
ATTACH;FMTTYPE=image/jpeg:https://kyososhien.or.jp/wp-content/uploads/2023/08/359537939_6427585440689027_4596772651943165852_n.jpg
ORGANIZER;CN="%E7%B5%8C%E5%96%B6%E8%80%85%E3%82%B3%E3%83%9F%E3%83%A5%E3%83%8B%E3%83%86%E3%82%A3%E3%80%8E%E3%81%A4%E3%82%80%E3%81%8E%E4%BC%9A%E3%80%8F":MAILTO:info@kyososhien.or.jp
END:VEVENT
END:VCALENDAR